BEGIN:VCALENDAR
VERSION:2.0
PRODID:-//Settle Harriers Running Club - ECPv6.15.20//NONSGML v1.0//EN
CALSCALE:GREGORIAN
METHOD:PUBLISH
X-WR-CALNAME:Settle Harriers Running Club
X-ORIGINAL-URL:https://settleharriers.org
X-WR-CALDESC:Events for Settle Harriers Running Club
REFRESH-INTERVAL;VALUE=DURATION:PT1H
X-Robots-Tag:noindex
X-PUBLISHED-TTL:PT1H
BEGIN:VTIMEZONE
TZID:Europe/London
BEGIN:DAYLIGHT
TZOFFSETFROM:+0000
TZOFFSETTO:+0100
TZNAME:BST
DTSTART:20240331T010000
END:DAYLIGHT
BEGIN:STANDARD
TZOFFSETFROM:+0100
TZOFFSETTO:+0000
TZNAME:GMT
DTSTART:20241027T010000
END:STANDARD
BEGIN:DAYLIGHT
TZOFFSETFROM:+0000
TZOFFSETTO:+0100
TZNAME:BST
DTSTART:20250330T010000
END:DAYLIGHT
BEGIN:STANDARD
TZOFFSETFROM:+0100
TZOFFSETTO:+0000
TZNAME:GMT
DTSTART:20251026T010000
END:STANDARD
BEGIN:DAYLIGHT
TZOFFSETFROM:+0000
TZOFFSETTO:+0100
TZNAME:BST
DTSTART:20260329T010000
END:DAYLIGHT
BEGIN:STANDARD
TZOFFSETFROM:+0100
TZOFFSETTO:+0000
TZNAME:GMT
DTSTART:20261025T010000
END:STANDARD
END:VTIMEZONE
BEGIN:VEVENT
DTSTART;TZID=Europe/London:20250122T183000
DTEND;TZID=Europe/London:20250122T200000
DTSTAMP:20260420T164252
CREATED:20240923T103007Z
LAST-MODIFIED:20240923T111108Z
UID:11695-1737570600-1737576000@settleharriers.org
SUMMARY:Wednesday evening run
DESCRIPTION:Feizor\, Oxenber Woods circular trail run 9k
URL:https://settleharriers.org/event/wednesday-evening-run-22/
LOCATION:Austwick Village Green\, 4J6V+R55 Lancaster
CATEGORIES:Social Run
ATTACH;FMTTYPE=image/png:https://settleharriers.org/wp-content/uploads/2024/08/weds_run-e1724149034228.png
END:VEVENT
BEGIN:VEVENT
DTSTART;TZID=Europe/London:20250122T193000
DTEND;TZID=Europe/London:20250122T220000
DTSTAMP:20260420T164252
CREATED:20241211T165245Z
LAST-MODIFIED:20241211T165245Z
UID:12140-1737574200-1737583200@settleharriers.org
SUMMARY:Club AGM
DESCRIPTION:Club AGM at Austwick Village Hall 7:30
URL:https://settleharriers.org/event/club-agm/
LOCATION:Austwick Village Hall
CATEGORIES:Club event
ATTACH;FMTTYPE=image/png:https://settleharriers.org/wp-content/uploads/2024/08/club_events-e1724159565783.png
END:VEVENT
END:VCALENDAR