BEGIN:VCALENDAR
VERSION:2.0
PRODID:-//Settle Harriers Running Club - ECPv6.15.20//NONSGML v1.0//EN
CALSCALE:GREGORIAN
METHOD:PUBLISH
X-ORIGINAL-URL:https://settleharriers.org
X-WR-CALDESC:Events for Settle Harriers Running Club
REFRESH-INTERVAL;VALUE=DURATION:PT1H
X-Robots-Tag:noindex
X-PUBLISHED-TTL:PT1H
BEGIN:VTIMEZONE
TZID:Europe/London
BEGIN:DAYLIGHT
TZOFFSETFROM:+0000
TZOFFSETTO:+0100
TZNAME:BST
DTSTART:20250330T010000
END:DAYLIGHT
BEGIN:STANDARD
TZOFFSETFROM:+0100
TZOFFSETTO:+0000
TZNAME:GMT
DTSTART:20251026T010000
END:STANDARD
BEGIN:DAYLIGHT
TZOFFSETFROM:+0000
TZOFFSETTO:+0100
TZNAME:BST
DTSTART:20260329T010000
END:DAYLIGHT
BEGIN:STANDARD
TZOFFSETFROM:+0100
TZOFFSETTO:+0000
TZNAME:GMT
DTSTART:20261025T010000
END:STANDARD
BEGIN:DAYLIGHT
TZOFFSETFROM:+0000
TZOFFSETTO:+0100
TZNAME:BST
DTSTART:20270328T010000
END:DAYLIGHT
BEGIN:STANDARD
TZOFFSETFROM:+0100
TZOFFSETTO:+0000
TZNAME:GMT
DTSTART:20271031T010000
END:STANDARD
END:VTIMEZONE
BEGIN:VEVENT
DTSTART;TZID=Europe/London:20260218T190000
DTEND;TZID=Europe/London:20260218T190000
DTSTAMP:20260420T235245
CREATED:20251014T143713Z
LAST-MODIFIED:20251019T151547Z
UID:14064-1771441200-1771441200@settleharriers.org
SUMMARY:Wednesday evening run
DESCRIPTION:Clapham / Newby / Newby Cote – road run
URL:https://settleharriers.org/event/wednesday-evening-run-91/
CATEGORIES:Social Run
ATTACH;FMTTYPE=image/png:https://settleharriers.org/wp-content/uploads/2024/08/weds_run-e1724149034228.png
END:VEVENT
END:VCALENDAR