BEGIN:VCALENDAR
VERSION:2.0
PRODID:-//Settle Harriers Running Club - ECPv6.15.20//NONSGML v1.0//EN
CALSCALE:GREGORIAN
METHOD:PUBLISH
X-WR-CALNAME:Settle Harriers Running Club
X-ORIGINAL-URL:https://settleharriers.org
X-WR-CALDESC:Events for Settle Harriers Running Club
REFRESH-INTERVAL;VALUE=DURATION:PT1H
X-Robots-Tag:noindex
X-PUBLISHED-TTL:PT1H
BEGIN:VTIMEZONE
TZID:Europe/London
BEGIN:DAYLIGHT
TZOFFSETFROM:+0000
TZOFFSETTO:+0100
TZNAME:BST
DTSTART:20230326T010000
END:DAYLIGHT
BEGIN:STANDARD
TZOFFSETFROM:+0100
TZOFFSETTO:+0000
TZNAME:GMT
DTSTART:20231029T010000
END:STANDARD
BEGIN:DAYLIGHT
TZOFFSETFROM:+0000
TZOFFSETTO:+0100
TZNAME:BST
DTSTART:20240331T010000
END:DAYLIGHT
BEGIN:STANDARD
TZOFFSETFROM:+0100
TZOFFSETTO:+0000
TZNAME:GMT
DTSTART:20241027T010000
END:STANDARD
BEGIN:DAYLIGHT
TZOFFSETFROM:+0000
TZOFFSETTO:+0100
TZNAME:BST
DTSTART:20250330T010000
END:DAYLIGHT
BEGIN:STANDARD
TZOFFSETFROM:+0100
TZOFFSETTO:+0000
TZNAME:GMT
DTSTART:20251026T010000
END:STANDARD
END:VTIMEZONE
BEGIN:VEVENT
DTSTART;TZID=Europe/London:20241113T190000
DTEND;TZID=Europe/London:20241113T203000
DTSTAMP:20260421T022115
CREATED:20240923T102949Z
LAST-MODIFIED:20241112T192835Z
UID:11686-1731524400-1731529800@settleharriers.org
SUMMARY:Wednesday evening run
DESCRIPTION:Fell Lane/Skirwith/Ingleton Quarry/Stepping Stones/Beezley circular trail run 9.5k
URL:https://settleharriers.org/event/wednesday-evening-run-13/
LOCATION:Ingleton Community Centre\, 5G2J+Q9V Carnforth
CATEGORIES:Social Run
ATTACH;FMTTYPE=image/png:https://settleharriers.org/wp-content/uploads/2024/08/weds_run-e1724149034228.png
END:VEVENT
BEGIN:VEVENT
DTSTART;TZID=Europe/London:20241111T190000
DTEND;TZID=Europe/London:20241111T203000
DTSTAMP:20260421T022115
CREATED:20241029T122158Z
LAST-MODIFIED:20241029T130230Z
UID:11922-1731351600-1731357000@settleharriers.org
SUMMARY:Monday evening run
DESCRIPTION:Jubilee Cave – Warrendale Loop –  8km – Off Road 
URL:https://settleharriers.org/event/monday-evening-run-15/
LOCATION:Settle Market Place\, 3P9F+F67 Settle
CATEGORIES:Social Run
ATTACH;FMTTYPE=image/png:https://settleharriers.org/wp-content/uploads/2024/08/mon_run-1-e1724149191804.png
END:VEVENT
BEGIN:VEVENT
DTSTART;TZID=Europe/London:20241110T110000
DTEND;TZID=Europe/London:20241110T110000
DTSTAMP:20260421T022115
CREATED:20240819T143506Z
LAST-MODIFIED:20240822T091708Z
UID:11384-1731236400-1731236400@settleharriers.org
SUMMARY:Championship Race
DESCRIPTION:Wadsworth Half Trog
URL:https://settleharriers.org/event/championship-race-4/
CATEGORIES:Championship Race
ATTACH;FMTTYPE=image/png:https://settleharriers.org/wp-content/uploads/2024/08/champs_race-e1724149105356.png
END:VEVENT
BEGIN:VEVENT
DTSTART;TZID=Europe/London:20241106T190000
DTEND;TZID=Europe/London:20241106T203000
DTSTAMP:20260421T022115
CREATED:20240923T102934Z
LAST-MODIFIED:20240923T111439Z
UID:11685-1730919600-1730925000@settleharriers.org
SUMMARY:Wednesday evening run
DESCRIPTION:Cleatop Woods\, Lambert Lane Attirmire Scar circular trail run 9k
URL:https://settleharriers.org/event/wednesday-evening-run-12/
LOCATION:Settle Market Place\, 3P9F+F67 Settle
CATEGORIES:Social Run
ATTACH;FMTTYPE=image/png:https://settleharriers.org/wp-content/uploads/2024/08/weds_run-e1724149034228.png
END:VEVENT
BEGIN:VEVENT
DTSTART;TZID=Europe/London:20241104T190000
DTEND;TZID=Europe/London:20241104T203000
DTSTAMP:20260421T022115
CREATED:20241029T122158Z
LAST-MODIFIED:20241029T124715Z
UID:11921-1730746800-1730752200@settleharriers.org
SUMMARY:Monday evening run
DESCRIPTION:Big Cairn Autumn Special –  7km – Off Road 
URL:https://settleharriers.org/event/monday-evening-run-14/
LOCATION:Austwick Game Cock\, 4J6V+R55 Lancaster
CATEGORIES:Social Run
ATTACH;FMTTYPE=image/png:https://settleharriers.org/wp-content/uploads/2024/08/mon_run-1-e1724149191804.png
END:VEVENT
BEGIN:VEVENT
DTSTART;TZID=Europe/London:20241030T190000
DTEND;TZID=Europe/London:20241030T203000
DTSTAMP:20260421T022115
CREATED:20240923T102934Z
LAST-MODIFIED:20241030T174521Z
UID:11684-1730314800-1730320200@settleharriers.org
SUMMARY:Wednesday evening run
DESCRIPTION:Bowland Knotts linear road run 12k \n  \nMeet at Clapham Station\, W3W https://what3words.com/directors.songs.claw
URL:https://settleharriers.org/event/wednesday-evening-run-11/
LOCATION:Clapham Station\, 4H4Q+5XC Lancaster
CATEGORIES:Social Run
ATTACH;FMTTYPE=image/png:https://settleharriers.org/wp-content/uploads/2024/08/weds_run-e1724149034228.png
END:VEVENT
BEGIN:VEVENT
DTSTART;TZID=Europe/London:20241028T190000
DTEND;TZID=Europe/London:20241028T203000
DTSTAMP:20260421T022115
CREATED:20241029T122157Z
LAST-MODIFIED:20241029T124414Z
UID:11920-1730142000-1730147400@settleharriers.org
SUMMARY:Monday evening run
DESCRIPTION:Sugar Loaf Loop –  8km – Off Road 
URL:https://settleharriers.org/event/monday-evening-run-13/
LOCATION:Settle Market Place\, 3P9F+F67 Settle
CATEGORIES:Social Run
END:VEVENT
BEGIN:VEVENT
DTSTART;TZID=Europe/London:20241023T190000
DTEND;TZID=Europe/London:20241023T203000
DTSTAMP:20260421T022115
CREATED:20240923T102934Z
LAST-MODIFIED:20241006T140154Z
UID:11683-1729710000-1729715400@settleharriers.org
SUMMARY:Wednesday evening run
DESCRIPTION:Gigg Quarry Stackhouse Trail Run
URL:https://settleharriers.org/event/wednesday-evening-run-10/
LOCATION:Simons House\, 3PF8+6G5 Settle
CATEGORIES:Social Run
ATTACH;FMTTYPE=image/png:https://settleharriers.org/wp-content/uploads/2024/08/weds_run-e1724149034228.png
END:VEVENT
BEGIN:VEVENT
DTSTART;TZID=Europe/London:20241021T190000
DTEND;TZID=Europe/London:20241021T203000
DTSTAMP:20260421T022115
CREATED:20241029T122157Z
LAST-MODIFIED:20241029T124414Z
UID:11919-1729537200-1729542600@settleharriers.org
SUMMARY:Monday evening run
DESCRIPTION:Sell Gill Whitber Loop –  8km – Off Road 
URL:https://settleharriers.org/event/monday-evening-run-12/
LOCATION:Horton Car Park\, 4PX3+GM Settle
CATEGORIES:Social Run
END:VEVENT
BEGIN:VEVENT
DTSTART;TZID=Europe/London:20241019T120000
DTEND;TZID=Europe/London:20241019T120000
DTSTAMP:20260421T022115
CREATED:20240820T091055Z
LAST-MODIFIED:20240820T091528Z
UID:11416-1729339200-1729339200@settleharriers.org
SUMMARY:FRA Fell Relays
DESCRIPTION:UKA Fell and Hill Relay Championships
URL:https://settleharriers.org/event/fra-fell-relays/
CATEGORIES:FRA,Races
ATTACH;FMTTYPE=image/png:https://settleharriers.org/wp-content/uploads/2024/08/race-e1724148906550.png
END:VEVENT
BEGIN:VEVENT
DTSTART;TZID=Europe/London:20241016T190000
DTEND;TZID=Europe/London:20241016T203000
DTSTAMP:20260421T022115
CREATED:20240923T102933Z
LAST-MODIFIED:20240923T111538Z
UID:11682-1729105200-1729110600@settleharriers.org
SUMMARY:Wednesday evening run
DESCRIPTION:Dub Cote Pen y Ghent or Dale Head Goat Lane / Moor Head Lane trail run 11k
URL:https://settleharriers.org/event/wednesday-evening-run-9/
LOCATION:Helwith Bridge Inn\, 4PC5+JR Settle
CATEGORIES:Social Run
ATTACH;FMTTYPE=image/png:https://settleharriers.org/wp-content/uploads/2024/08/weds_run-e1724149034228.png
END:VEVENT
BEGIN:VEVENT
DTSTART;TZID=Europe/London:20241014T190000
DTEND;TZID=Europe/London:20241014T203000
DTSTAMP:20260421T022116
CREATED:20241029T122157Z
LAST-MODIFIED:20241029T124414Z
UID:11918-1728932400-1728937800@settleharriers.org
SUMMARY:Monday evening run
DESCRIPTION:Thwaite Lane and Back through Fields –  8km – Off Road 
URL:https://settleharriers.org/event/monday-evening-run-11/
LOCATION:Clapham Car Park\, 4J95+6M Lancaster
CATEGORIES:Social Run
END:VEVENT
BEGIN:VEVENT
DTSTART;TZID=Europe/London:20241009T190000
DTEND;TZID=Europe/London:20241009T203000
DTSTAMP:20260421T022116
CREATED:20240923T102933Z
LAST-MODIFIED:20240923T111556Z
UID:11681-1728500400-1728505800@settleharriers.org
SUMMARY:Wednesday evening run
DESCRIPTION:Norber Erratics / Sulber Gate trail run 11k
URL:https://settleharriers.org/event/wednesday-evening-run-8/
LOCATION:Austwick Game Cock\, 4J6V+R55 Lancaster
CATEGORIES:Social Run
ATTACH;FMTTYPE=image/png:https://settleharriers.org/wp-content/uploads/2024/08/weds_run-e1724149034228.png
END:VEVENT
BEGIN:VEVENT
DTSTART;TZID=Europe/London:20241007T190000
DTEND;TZID=Europe/London:20241007T203000
DTSTAMP:20260421T022116
CREATED:20241029T122157Z
LAST-MODIFIED:20241029T124414Z
UID:11917-1728327600-1728333000@settleharriers.org
SUMMARY:Monday evening run
DESCRIPTION:Cleatop Woods and Hunter Bark –  8km – Off Road 
URL:https://settleharriers.org/event/monday-evening-run-10/
LOCATION:Settle Market Place\, 3P9F+F67 Settle
CATEGORIES:Social Run
END:VEVENT
BEGIN:VEVENT
DTSTART;TZID=Europe/London:20241005T090000
DTEND;TZID=Europe/London:20241005T180000
DTSTAMP:20260421T022116
CREATED:20240819T120131Z
LAST-MODIFIED:20240820T091611Z
UID:11340-1728118800-1728151200@settleharriers.org
SUMMARY:Hodgson Brothers Mountain Relay
DESCRIPTION:
URL:https://settleharriers.org/event/hodgson-brothers-mountain-relay/
CATEGORIES:FRA,Races
ATTACH;FMTTYPE=image/png:https://settleharriers.org/wp-content/uploads/2024/08/race-e1724148906550.png
END:VEVENT
BEGIN:VEVENT
DTSTART;TZID=Europe/London:20241002T190000
DTEND;TZID=Europe/London:20241002T203000
DTSTAMP:20260421T022116
CREATED:20240923T102933Z
LAST-MODIFIED:20240923T110633Z
UID:11680-1727895600-1727901000@settleharriers.org
SUMMARY:Wednesday evening run
DESCRIPTION:High/Low Bentham road & river route – riverside run 9k
URL:https://settleharriers.org/event/wednesday-evening-run-7/
LOCATION:Lairgill Car Park Butts Lane High Bentham\, 4F9W+J2G Lancaster
CATEGORIES:Social Run
ATTACH;FMTTYPE=image/png:https://settleharriers.org/wp-content/uploads/2024/08/weds_run-e1724149034228.png
END:VEVENT
BEGIN:VEVENT
DTSTART;TZID=Europe/London:20240930T190000
DTEND;TZID=Europe/London:20240930T203000
DTSTAMP:20260421T022116
CREATED:20240819T143502Z
LAST-MODIFIED:20240822T091704Z
UID:11379-1727722800-1727728200@settleharriers.org
SUMMARY:Monday evening run
DESCRIPTION:Whelpstone Crag
URL:https://settleharriers.org/event/monday-evening-run-9/
LOCATION:Gisburn Forest (Tosside)\, 2J2W+363 Skipton
CATEGORIES:Social Run
ATTACH;FMTTYPE=image/png:https://settleharriers.org/wp-content/uploads/2024/08/mon_run-1-e1724149191804.png
END:VEVENT
BEGIN:VEVENT
DTSTART;TZID=Europe/London:20240925T183000
DTEND;TZID=Europe/London:20240925T200000
DTSTAMP:20260421T022116
CREATED:20240923T102932Z
LAST-MODIFIED:20240923T104923Z
UID:11679-1727289000-1727294400@settleharriers.org
SUMMARY:Wednesday evening run
DESCRIPTION:Long Lane – Scar –circular trail run 10k
URL:https://settleharriers.org/event/wednesday-evening-run-6/
LOCATION:Clapham Car Park\, 4J95+6M Lancaster
CATEGORIES:Social Run
ATTACH;FMTTYPE=image/png:https://settleharriers.org/wp-content/uploads/2024/08/weds_run-e1724149034228.png
END:VEVENT
BEGIN:VEVENT
DTSTART;TZID=Europe/London:20240923T190000
DTEND;TZID=Europe/London:20240923T203000
DTSTAMP:20260421T022116
CREATED:20240819T143501Z
LAST-MODIFIED:20240822T091704Z
UID:11378-1727118000-1727123400@settleharriers.org
SUMMARY:Monday evening run
DESCRIPTION:Tow Scar/Turbury Road
URL:https://settleharriers.org/event/monday-evening-run-8/
LOCATION:Kingsdale/Turbury Road (GR 691757)\, 5GGG+C5R Carnforth
CATEGORIES:Social Run
ATTACH;FMTTYPE=image/png:https://settleharriers.org/wp-content/uploads/2024/08/mon_run-1-e1724149191804.png
END:VEVENT
BEGIN:VEVENT
DTSTART;TZID=Europe/London:20240921T120000
DTEND;TZID=Europe/London:20240921T120000
DTSTAMP:20260421T022116
CREATED:20240819T143506Z
LAST-MODIFIED:20240822T091708Z
UID:11383-1726920000-1726920000@settleharriers.org
SUMMARY:Championship Race
DESCRIPTION:Great Whernside
URL:https://settleharriers.org/event/championship-race-3/
CATEGORIES:Championship Race
ATTACH;FMTTYPE=image/png:https://settleharriers.org/wp-content/uploads/2024/08/champs_race-e1724149105356.png
END:VEVENT
BEGIN:VEVENT
DTSTART;TZID=Europe/London:20240918T183000
DTEND;TZID=Europe/London:20240918T200000
DTSTAMP:20260421T022116
CREATED:20240923T102932Z
LAST-MODIFIED:20240923T102932Z
UID:11678-1726684200-1726689600@settleharriers.org
SUMMARY:Wednesday evening run
DESCRIPTION:Langcliffe Village Car Park
URL:https://settleharriers.org/event/wednesday-evening-run-2/
LOCATION:Langcliffe Village Car Park\, 3PJH+H83 Settle
CATEGORIES:Social Run
END:VEVENT
BEGIN:VEVENT
DTSTART;TZID=Europe/London:20240916T190000
DTEND;TZID=Europe/London:20240916T203000
DTSTAMP:20260421T022116
CREATED:20240819T143501Z
LAST-MODIFIED:20240822T091704Z
UID:11377-1726513200-1726518600@settleharriers.org
SUMMARY:Monday evening run
DESCRIPTION:Smearsett
URL:https://settleharriers.org/event/monday-evening-run-7/
LOCATION:Helwith Bridge Inn\, 4PC5+JR Settle
CATEGORIES:Social Run
ATTACH;FMTTYPE=image/png:https://settleharriers.org/wp-content/uploads/2024/08/mon_run-1-e1724149191804.png
END:VEVENT
BEGIN:VEVENT
DTSTART;TZID=Europe/London:20240911T190000
DTEND;TZID=Europe/London:20240911T203000
DTSTAMP:20260421T022116
CREATED:20240819T143505Z
LAST-MODIFIED:20240923T102932Z
UID:11381-1726081200-1726086600@settleharriers.org
SUMMARY:Wednesday evening run
DESCRIPTION:Sulber Nick/Selside circular – Trail 10.5k
URL:https://settleharriers.org/event/wednesday-evening-run-5/
LOCATION:Horton Car Park\, 4PX3+GM Settle
CATEGORIES:Social Run
ATTACH;FMTTYPE=image/png:https://settleharriers.org/wp-content/uploads/2024/08/weds_run-e1724149034228.png
END:VEVENT
BEGIN:VEVENT
DTSTART;TZID=Europe/London:20240909T190000
DTEND;TZID=Europe/London:20240909T203000
DTSTAMP:20260421T022116
CREATED:20240819T143501Z
LAST-MODIFIED:20240822T091704Z
UID:11376-1725908400-1725913800@settleharriers.org
SUMMARY:Monday evening run
DESCRIPTION:Janet’s Foss and Wheets Top (map)
URL:https://settleharriers.org/event/monday-evening-run-6/
LOCATION:Kirkby Malham (Near Victoria)\, 2RVQ+V4 Skipton
CATEGORIES:Social Run
ATTACH;FMTTYPE=image/png:https://settleharriers.org/wp-content/uploads/2024/08/mon_run-1-e1724149191804.png
END:VEVENT
BEGIN:VEVENT
DTSTART;TZID=Europe/London:20240908T093000
DTEND;TZID=Europe/London:20240908T093000
DTSTAMP:20260421T022116
CREATED:20240819T143506Z
LAST-MODIFIED:20240822T091708Z
UID:11382-1725787800-1725787800@settleharriers.org
SUMMARY:Championship Race
DESCRIPTION:Yorkshireman off-road Full or Half marathon
URL:https://settleharriers.org/event/championship-race-2/
CATEGORIES:Championship Race
ATTACH;FMTTYPE=image/png:https://settleharriers.org/wp-content/uploads/2024/08/champs_race-e1724149105356.png
END:VEVENT
BEGIN:VEVENT
DTSTART;TZID=Europe/London:20240904T190000
DTEND;TZID=Europe/London:20240904T203000
DTSTAMP:20260421T022116
CREATED:20240819T143505Z
LAST-MODIFIED:20240923T102932Z
UID:11380-1725476400-1725481800@settleharriers.org
SUMMARY:Wednesday evening run
DESCRIPTION:Ingleborough via Little Ingleborough– Fell 13k
URL:https://settleharriers.org/event/wednesday-evening-run-4/
LOCATION:Newby Cote\, 4HHQ+XCF Lancaster
CATEGORIES:Social Run
ATTACH;FMTTYPE=image/png:https://settleharriers.org/wp-content/uploads/2024/08/weds_run-e1724149034228.png
END:VEVENT
BEGIN:VEVENT
DTSTART;TZID=Europe/London:20240902T190000
DTEND;TZID=Europe/London:20240902T203000
DTSTAMP:20260421T022116
CREATED:20240819T143500Z
LAST-MODIFIED:20240821T192250Z
UID:11375-1725303600-1725309000@settleharriers.org
SUMMARY:Monday evening run
DESCRIPTION:Runners/cyclists pairs event. Whernside for runners\, Ingleborough circuit for cyclists
URL:https://settleharriers.org/event/monday-evening-run-5/
LOCATION:Ribblehead\, 6J5Q+GMW Carnforth
CATEGORIES:Social Run
ATTACH;FMTTYPE=image/png:https://settleharriers.org/wp-content/uploads/2024/08/mon_run-1-e1724149191804.png
END:VEVENT
BEGIN:VEVENT
DTSTART;TZID=Europe/London:20240828T200000
DTEND;TZID=Europe/London:20240828T213000
DTSTAMP:20260421T022116
CREATED:20240819T124255Z
LAST-MODIFIED:20240820T092047Z
UID:11352-1724875200-1724880600@settleharriers.org
SUMMARY:Wednesday evening run
DESCRIPTION:National Trust route via Darnbrook Farm – Trail 12k
URL:https://settleharriers.org/event/wednesday-evening-run-3/
LOCATION:Back of Malham Tarn (Off Arncliffe Road)\, 4R29+4Q4 Settle
CATEGORIES:Social Run
ATTACH;FMTTYPE=image/png:https://settleharriers.org/wp-content/uploads/2024/08/weds_run-e1724149034228.png
END:VEVENT
BEGIN:VEVENT
DTSTART;TZID=Europe/London:20240826T190000
DTEND;TZID=Europe/London:20240826T210000
DTSTAMP:20260421T022116
CREATED:20240821T191151Z
LAST-MODIFIED:20240821T191519Z
UID:11569-1724698800-1724706000@settleharriers.org
SUMMARY:Monday evening run
DESCRIPTION:Plover and Penyghent
URL:https://settleharriers.org/event/monday-evening-run-3/
LOCATION:Horton Car Park\, 4PX3+GM Settle
ATTACH;FMTTYPE=image/png:https://settleharriers.org/wp-content/uploads/2024/08/mon_run-1-e1724149191804.png
END:VEVENT
BEGIN:VEVENT
DTSTART;TZID=Europe/London:20240824T140000
DTEND;TZID=Europe/London:20240824T150000
DTSTAMP:20260421T022116
CREATED:20240819T124838Z
LAST-MODIFIED:20240821T180716Z
UID:11354-1724508000-1724511600@settleharriers.org
SUMMARY:Championship Race
DESCRIPTION:Halton Gill Sports Gala Fell Race
URL:https://settleharriers.org/event/championship-race/
LOCATION:Halton Gill\, 5RM8+H8J Skipton
CATEGORIES:BOFRA,Championship Race,Races
ATTACH;FMTTYPE=image/png:https://settleharriers.org/wp-content/uploads/2024/08/champs_race-e1724149105356.png
END:VEVENT
END:VCALENDAR