BEGIN:VCALENDAR
VERSION:2.0
PRODID:-//Settle Harriers Running Club - ECPv6.15.20//NONSGML v1.0//EN
CALSCALE:GREGORIAN
METHOD:PUBLISH
X-WR-CALNAME:Settle Harriers Running Club
X-ORIGINAL-URL:https://settleharriers.org
X-WR-CALDESC:Events for Settle Harriers Running Club
REFRESH-INTERVAL;VALUE=DURATION:PT1H
X-Robots-Tag:noindex
X-PUBLISHED-TTL:PT1H
BEGIN:VTIMEZONE
TZID:Europe/London
BEGIN:DAYLIGHT
TZOFFSETFROM:+0000
TZOFFSETTO:+0100
TZNAME:BST
DTSTART:20240331T010000
END:DAYLIGHT
BEGIN:STANDARD
TZOFFSETFROM:+0100
TZOFFSETTO:+0000
TZNAME:GMT
DTSTART:20241027T010000
END:STANDARD
BEGIN:DAYLIGHT
TZOFFSETFROM:+0000
TZOFFSETTO:+0100
TZNAME:BST
DTSTART:20250330T010000
END:DAYLIGHT
BEGIN:STANDARD
TZOFFSETFROM:+0100
TZOFFSETTO:+0000
TZNAME:GMT
DTSTART:20251026T010000
END:STANDARD
BEGIN:DAYLIGHT
TZOFFSETFROM:+0000
TZOFFSETTO:+0100
TZNAME:BST
DTSTART:20260329T010000
END:DAYLIGHT
BEGIN:STANDARD
TZOFFSETFROM:+0100
TZOFFSETTO:+0000
TZNAME:GMT
DTSTART:20261025T010000
END:STANDARD
BEGIN:DAYLIGHT
TZOFFSETFROM:+0000
TZOFFSETTO:+0100
TZNAME:BST
DTSTART:20270328T010000
END:DAYLIGHT
BEGIN:STANDARD
TZOFFSETFROM:+0100
TZOFFSETTO:+0000
TZNAME:GMT
DTSTART:20271031T010000
END:STANDARD
END:VTIMEZONE
BEGIN:VEVENT
DTSTART;TZID=Europe/London:20260121T190000
DTEND;TZID=Europe/London:20260121T190000
DTSTAMP:20260421T014117
CREATED:20251014T143512Z
LAST-MODIFIED:20251019T152032Z
UID:14060-1769022000-1769022000@settleharriers.org
SUMMARY:Wednesday evening run
DESCRIPTION:Feizor\, Oxenber Woods circular trail run
URL:https://settleharriers.org/event/wednesday-evening-run-87/
LOCATION:Austwick Game Cock\, 4J6V+R55 Lancaster
CATEGORIES:Social Run
ATTACH;FMTTYPE=image/png:https://settleharriers.org/wp-content/uploads/2024/08/weds_run-e1724149034228.png
END:VEVENT
BEGIN:VEVENT
DTSTART;TZID=Europe/London:20260119T190000
DTEND;TZID=Europe/London:20260119T203000
DTSTAMP:20260421T014117
CREATED:20251019T150324Z
LAST-MODIFIED:20251019T152107Z
UID:14304-1768849200-1768854600@settleharriers.org
SUMMARY:Monday Evening Run
DESCRIPTION:Cleatop Woods and Hunter Bark
URL:https://settleharriers.org/event/monday-evening-run-134/
LOCATION:Settle Market Place\, 3P9F+F67 Settle
CATEGORIES:Social Run
ATTACH;FMTTYPE=image/png:https://settleharriers.org/wp-content/uploads/2024/08/mon_run-1-e1724149191804.png
END:VEVENT
BEGIN:VEVENT
DTSTART;TZID=Europe/London:20260114T190000
DTEND;TZID=Europe/London:20260114T190000
DTSTAMP:20260421T014117
CREATED:20251014T143512Z
LAST-MODIFIED:20251019T152132Z
UID:14059-1768417200-1768417200@settleharriers.org
SUMMARY:Wednesday evening run
DESCRIPTION:Lodge Road / Settle Reservoir circular trail run
URL:https://settleharriers.org/event/wednesday-evening-run-86/
LOCATION:Settle Market Place\, 3P9F+F67 Settle
CATEGORIES:Social Run
ATTACH;FMTTYPE=image/png:https://settleharriers.org/wp-content/uploads/2024/08/weds_run-e1724149034228.png
END:VEVENT
BEGIN:VEVENT
DTSTART;TZID=Europe/London:20260112T190000
DTEND;TZID=Europe/London:20260112T203000
DTSTAMP:20260421T014117
CREATED:20251019T150323Z
LAST-MODIFIED:20251019T152156Z
UID:14303-1768244400-1768249800@settleharriers.org
SUMMARY:Monday Evening Run
DESCRIPTION:Lanes
URL:https://settleharriers.org/event/monday-evening-run-133/
LOCATION:Austwick Game Cock\, 4J6V+R55 Lancaster
CATEGORIES:Social Run
ATTACH;FMTTYPE=image/png:https://settleharriers.org/wp-content/uploads/2024/08/mon_run-1-e1724149191804.png
END:VEVENT
BEGIN:VEVENT
DTSTART;TZID=Europe/London:20260107T190000
DTEND;TZID=Europe/London:20260107T203000
DTSTAMP:20260421T014117
CREATED:20251014T143456Z
LAST-MODIFIED:20251024T144946Z
UID:14058-1767812400-1767817800@settleharriers.org
SUMMARY:Wednesday evening run
DESCRIPTION:Sell Gill / Whitber Hill – trail run
URL:https://settleharriers.org/event/wednesday-evening-run-85/
LOCATION:Horton Car Park\, 4PX3+GM Settle
CATEGORIES:Social Run
ATTACH;FMTTYPE=image/png:https://settleharriers.org/wp-content/uploads/2024/08/weds_run-e1724149034228.png
END:VEVENT
BEGIN:VEVENT
DTSTART;TZID=Europe/London:20260105T190000
DTEND;TZID=Europe/London:20260105T203000
DTSTAMP:20260421T014117
CREATED:20251019T150323Z
LAST-MODIFIED:20260103T131230Z
UID:14302-1767639600-1767645000@settleharriers.org
SUMMARY:Monday Evening Run
DESCRIPTION:Sugar Loaf Loop
URL:https://settleharriers.org/event/monday-evening-run-132/
LOCATION:Settle Market Place\, 3P9F+F67 Settle
CATEGORIES:Social Run
ATTACH;FMTTYPE=image/png:https://settleharriers.org/wp-content/uploads/2024/08/mon_run-1-e1724149191804.png
END:VEVENT
BEGIN:VEVENT
DTSTART;TZID=Europe/London:20260103T100000
DTEND;TZID=Europe/London:20260103T133000
DTSTAMP:20260421T014117
CREATED:20251226T215724Z
LAST-MODIFIED:20251226T215724Z
UID:14774-1767434400-1767447000@settleharriers.org
SUMMARY:Winter Handcap (Mike Wynne memorial race)
DESCRIPTION:The club’s annual handicap race followed by sandwiches and some chips at the Sawmill cafe. You must contact Chris Beesley to get a start time and to book attendance at the cafe. 
URL:https://settleharriers.org/event/winter-handcap-mike-wynne-memorial-race/
LOCATION:Clapham Car Park\, 4J95+6M Lancaster
CATEGORIES:Club event
END:VEVENT
BEGIN:VEVENT
DTSTART;TZID=Europe/London:20251231T190000
DTEND;TZID=Europe/London:20251231T190000
DTSTAMP:20260421T014117
CREATED:20251014T143456Z
LAST-MODIFIED:20251229T171839Z
UID:14057-1767207600-1767207600@settleharriers.org
SUMMARY:Wednesday evening run
DESCRIPTION:No Run – Have a great New Year!
URL:https://settleharriers.org/event/wednesday-evening-run-84/
LOCATION:tbc
CATEGORIES:Social Run
ATTACH;FMTTYPE=image/png:https://settleharriers.org/wp-content/uploads/2024/08/weds_run-e1724149034228.png
END:VEVENT
BEGIN:VEVENT
DTSTART;TZID=Europe/London:20251229T100000
DTEND;TZID=Europe/London:20251229T113000
DTSTAMP:20260421T014117
CREATED:20251019T150323Z
LAST-MODIFIED:20251019T152359Z
UID:14301-1767002400-1767007800@settleharriers.org
SUMMARY:Monday Evening Run
DESCRIPTION:Jingleborough
URL:https://settleharriers.org/event/monday-evening-run-131/
CATEGORIES:Social Run
ATTACH;FMTTYPE=image/png:https://settleharriers.org/wp-content/uploads/2024/08/mon_run-1-e1724149191804.png
END:VEVENT
BEGIN:VEVENT
DTSTART;TZID=Europe/London:20251224T190000
DTEND;TZID=Europe/London:20251224T190000
DTSTAMP:20260421T014117
CREATED:20251014T143456Z
LAST-MODIFIED:20251019T152451Z
UID:14056-1766602800-1766602800@settleharriers.org
SUMMARY:Wednesday evening run
DESCRIPTION:Helwith Bridge Run/MTB/Walk – 11am Traditional Xmas Eve event
URL:https://settleharriers.org/event/wednesday-evening-run-83/
LOCATION:Helwith Bridge Inn\, 4PC5+JR Settle
CATEGORIES:Social Run
ATTACH;FMTTYPE=image/png:https://settleharriers.org/wp-content/uploads/2024/08/weds_run-e1724149034228.png
END:VEVENT
BEGIN:VEVENT
DTSTART;TZID=Europe/London:20251222T180000
DTEND;TZID=Europe/London:20251222T190000
DTSTAMP:20260421T014117
CREATED:20251019T150308Z
LAST-MODIFIED:20251219T221533Z
UID:14300-1766426400-1766430000@settleharriers.org
SUMMARY:Monday Evening Run
DESCRIPTION:Tunnels and Norber – Old Manor House for drinks after
URL:https://settleharriers.org/event/monday-evening-run-130/
LOCATION:Clapham Car Park\, 4J95+6M Lancaster
CATEGORIES:Social Run
ATTACH;FMTTYPE=image/png:https://settleharriers.org/wp-content/uploads/2024/08/mon_run-1-e1724149191804.png
END:VEVENT
BEGIN:VEVENT
DTSTART;TZID=Europe/London:20251217T190000
DTEND;TZID=Europe/London:20251217T190000
DTSTAMP:20260421T014117
CREATED:20251014T143456Z
LAST-MODIFIED:20251019T152601Z
UID:14055-1765998000-1765998000@settleharriers.org
SUMMARY:Wednesday evening run
DESCRIPTION:Gigg Chapel road circuit
URL:https://settleharriers.org/event/wednesday-evening-run-82/
LOCATION:Settle Swimming Pool\, 3PF8+796 Settle
CATEGORIES:Social Run
ATTACH;FMTTYPE=image/png:https://settleharriers.org/wp-content/uploads/2024/08/weds_run-e1724149034228.png
END:VEVENT
BEGIN:VEVENT
DTSTART;TZID=Europe/London:20251215T190000
DTEND;TZID=Europe/London:20251215T203000
DTSTAMP:20260421T014117
CREATED:20251019T150308Z
LAST-MODIFIED:20251019T152643Z
UID:14299-1765825200-1765830600@settleharriers.org
SUMMARY:Monday Evening Run
DESCRIPTION:Austwick Lanes
URL:https://settleharriers.org/event/monday-evening-run-129/
LOCATION:Austwick Game Cock\, 4J6V+R55 Lancaster
CATEGORIES:Social Run
ATTACH;FMTTYPE=image/png:https://settleharriers.org/wp-content/uploads/2024/08/mon_run-1-e1724149191804.png
END:VEVENT
BEGIN:VEVENT
DTSTART;TZID=Europe/London:20251214T120000
DTEND;TZID=Europe/London:20251214T170000
DTSTAMP:20260421T014117
CREATED:20251014T134157Z
LAST-MODIFIED:20251014T141242Z
UID:13999-1765713600-1765731600@settleharriers.org
SUMMARY:Ultra training session
DESCRIPTION:Discussion on how to prepare for and run an ultra race with Steve Hopwood
URL:https://settleharriers.org/event/ultra-training-session/
CATEGORIES:Club event
ATTACH;FMTTYPE=image/png:https://settleharriers.org/wp-content/uploads/2024/08/training-e1724159549493.png
END:VEVENT
BEGIN:VEVENT
DTSTART;TZID=Europe/London:20251212T190000
DTEND;TZID=Europe/London:20251212T230000
DTSTAMP:20260421T014117
CREATED:20251014T133956Z
LAST-MODIFIED:20251014T133956Z
UID:13994-1765566000-1765580400@settleharriers.org
SUMMARY:Senior presentation evening
DESCRIPTION:Annual awards night with ceilidh featuring the Batty Moss band and bar
URL:https://settleharriers.org/event/senior-presentation-evening/
LOCATION:Settle Rugby Club
ATTACH;FMTTYPE=image/png:https://settleharriers.org/wp-content/uploads/2024/08/social-e1726058202329.png
END:VEVENT
BEGIN:VEVENT
DTSTART;TZID=Europe/London:20251210T190000
DTEND;TZID=Europe/London:20251210T190000
DTSTAMP:20260421T014117
CREATED:20251014T143456Z
LAST-MODIFIED:20251019T152705Z
UID:14054-1765393200-1765393200@settleharriers.org
SUMMARY:Wednesday evening run
DESCRIPTION:Norber Erratics / Sulber Gate trail run
URL:https://settleharriers.org/event/wednesday-evening-run-81/
LOCATION:Austwick Game Cock\, 4J6V+R55 Lancaster
CATEGORIES:Social Run
ATTACH;FMTTYPE=image/png:https://settleharriers.org/wp-content/uploads/2024/08/weds_run-e1724149034228.png
END:VEVENT
BEGIN:VEVENT
DTSTART;TZID=Europe/London:20251208T181500
DTEND;TZID=Europe/London:20251208T191500
DTSTAMP:20260421T014117
CREATED:20251019T150308Z
LAST-MODIFIED:20251204T093840Z
UID:14298-1765217700-1765221300@settleharriers.org
SUMMARY:Monday Evening Run
DESCRIPTION:Attermire tops followed PreXmas curry
URL:https://settleharriers.org/event/monday-evening-run-128/
LOCATION:Settle Market Place\, 3P9F+F67 Settle
CATEGORIES:Social Run
ATTACH;FMTTYPE=image/png:https://settleharriers.org/wp-content/uploads/2024/08/mon_run-1-e1724149191804.png
END:VEVENT
BEGIN:VEVENT
DTSTART;TZID=Europe/London:20251203T190000
DTEND;TZID=Europe/London:20251203T190000
DTSTAMP:20260421T014117
CREATED:20251014T143440Z
LAST-MODIFIED:20251019T152751Z
UID:14053-1764788400-1764788400@settleharriers.org
SUMMARY:Wednesday evening run
DESCRIPTION:Langcliffe Lime Kiln / Winskill
URL:https://settleharriers.org/event/wednesday-evening-run-80/
LOCATION:Settle Market Place\, 3P9F+F67 Settle
CATEGORIES:Social Run
ATTACH;FMTTYPE=image/png:https://settleharriers.org/wp-content/uploads/2024/08/weds_run-e1724149034228.png
END:VEVENT
BEGIN:VEVENT
DTSTART;TZID=Europe/London:20251201T190000
DTEND;TZID=Europe/London:20251201T203000
DTSTAMP:20260421T014117
CREATED:20251019T150308Z
LAST-MODIFIED:20251127T105008Z
UID:14297-1764615600-1764621000@settleharriers.org
SUMMARY:Monday Evening Run
DESCRIPTION:Austwick Lanes and Oxenber
URL:https://settleharriers.org/event/monday-evening-run-127/
LOCATION:Austwick Game Cock\, 4J6V+R55 Lancaster
CATEGORIES:Social Run
ATTACH;FMTTYPE=image/png:https://settleharriers.org/wp-content/uploads/2024/08/mon_run-1-e1724149191804.png
END:VEVENT
BEGIN:VEVENT
DTSTART;TZID=Europe/London:20251126T190000
DTEND;TZID=Europe/London:20251126T190000
DTSTAMP:20260421T014117
CREATED:20251014T143440Z
LAST-MODIFIED:20251019T152840Z
UID:14052-1764183600-1764183600@settleharriers.org
SUMMARY:Wednesday evening run
DESCRIPTION:Airton – Kirkby Malham circular road run
URL:https://settleharriers.org/event/wednesday-evening-run-79/
LOCATION:Kirkby Malham (Near Victoria)\, 2RVQ+V4 Skipton
CATEGORIES:Social Run
ATTACH;FMTTYPE=image/png:https://settleharriers.org/wp-content/uploads/2024/08/weds_run-e1724149034228.png
END:VEVENT
BEGIN:VEVENT
DTSTART;TZID=Europe/London:20251125T193000
DTEND;TZID=Europe/London:20251125T200000
DTSTAMP:20260421T014117
CREATED:20251104T164954Z
LAST-MODIFIED:20251104T164954Z
UID:14429-1764099000-1764100800@settleharriers.org
SUMMARY:Extraordinary General Meeting
DESCRIPTION:EGM to discuss club incorporation
URL:https://settleharriers.org/event/extraordinary-general-meeting/
LOCATION:Golden Lion\, Settle
CATEGORIES:Club event
ATTACH;FMTTYPE=image/png:https://settleharriers.org/wp-content/uploads/2024/08/other_event-e1726058232794.png
END:VEVENT
BEGIN:VEVENT
DTSTART;TZID=Europe/London:20251124T190000
DTEND;TZID=Europe/London:20251124T203000
DTSTAMP:20260421T014117
CREATED:20251019T150308Z
LAST-MODIFIED:20251123T111043Z
UID:14296-1764010800-1764016200@settleharriers.org
SUMMARY:Monday Evening Run
DESCRIPTION:Gigg Chapel – Road
URL:https://settleharriers.org/event/monday-evening-run-126/
LOCATION:Settle Swimming Pool\, 3PF8+796 Settle
CATEGORIES:Social Run
ATTACH;FMTTYPE=image/png:https://settleharriers.org/wp-content/uploads/2024/08/mon_run-1-e1724149191804.png
END:VEVENT
BEGIN:VEVENT
DTSTART;TZID=Europe/London:20251119T190000
DTEND;TZID=Europe/London:20251119T190000
DTSTAMP:20260421T014117
CREATED:20251014T143440Z
LAST-MODIFIED:20251014T180435Z
UID:14051-1763578800-1763578800@settleharriers.org
SUMMARY:Wednesday evening run
DESCRIPTION:Dub Cote Brackenbottom Horton River Ribble route – trail run
URL:https://settleharriers.org/event/wednesday-evening-run-78/
LOCATION:Helwith Bridge Inn\, 4PC5+JR Settle
CATEGORIES:Social Run
ATTACH;FMTTYPE=image/png:https://settleharriers.org/wp-content/uploads/2024/08/weds_run-e1724149034228.png
END:VEVENT
BEGIN:VEVENT
DTSTART;TZID=Europe/London:20251117T190000
DTEND;TZID=Europe/London:20251117T203000
DTSTAMP:20260421T014117
CREATED:20251019T150306Z
LAST-MODIFIED:20251105T092033Z
UID:14295-1763406000-1763411400@settleharriers.org
SUMMARY:Monday Evening Run
DESCRIPTION:Cleatop Woods and Hunter Bark
URL:https://settleharriers.org/event/monday-evening-run-125/
LOCATION:Settle Market Place\, 3P9F+F67 Settle
CATEGORIES:Social Run
ATTACH;FMTTYPE=image/png:https://settleharriers.org/wp-content/uploads/2024/08/mon_run-1-e1724149191804.png
END:VEVENT
BEGIN:VEVENT
DTSTART;TZID=Europe/London:20251116T090000
DTEND;TZID=Europe/London:20251116T140000
DTSTAMP:20260421T014117
CREATED:20251104T165230Z
LAST-MODIFIED:20251104T165230Z
UID:14433-1763283600-1763301600@settleharriers.org
SUMMARY:Catherine's Open 3 event
DESCRIPTION:A 3-hour race to find the ducks – either on foot or by bike or both.
URL:https://settleharriers.org/event/catherines-open-3-event/
LOCATION:Helwith Bridge Inn\, 4PC5+JR Settle
CATEGORIES:Club event
ATTACH;FMTTYPE=image/png:https://settleharriers.org/wp-content/uploads/2024/08/club_events-e1724159565783.png
END:VEVENT
BEGIN:VEVENT
DTSTART;TZID=Europe/London:20251112T190000
DTEND;TZID=Europe/London:20251112T203000
DTSTAMP:20260421T014117
CREATED:20251014T143440Z
LAST-MODIFIED:20251016T100445Z
UID:14050-1762974000-1762979400@settleharriers.org
SUMMARY:Wednesday evening run
DESCRIPTION:Cold Cotes circular road run
URL:https://settleharriers.org/event/wednesday-evening-run-77/
LOCATION:Ingleton Community Centre\, 5G2J+Q9V Carnforth
CATEGORIES:Social Run
ATTACH;FMTTYPE=image/png:https://settleharriers.org/wp-content/uploads/2024/08/weds_run-e1724149034228.png
END:VEVENT
BEGIN:VEVENT
DTSTART;TZID=Europe/London:20251110T190000
DTEND;TZID=Europe/London:20251110T203000
DTSTAMP:20260421T014117
CREATED:20251019T150306Z
LAST-MODIFIED:20251105T091919Z
UID:14294-1762801200-1762806600@settleharriers.org
SUMMARY:Monday Evening Run
DESCRIPTION:Quarry Loop
URL:https://settleharriers.org/event/monday-evening-run-124/
LOCATION:Helwith Bridge Inn\, 4PC5+JR Settle
CATEGORIES:Social Run
ATTACH;FMTTYPE=image/png:https://settleharriers.org/wp-content/uploads/2024/08/mon_run-1-e1724149191804.png
END:VEVENT
BEGIN:VEVENT
DTSTART;TZID=Europe/London:20251105T190000
DTEND;TZID=Europe/London:20251105T190000
DTSTAMP:20260421T014117
CREATED:20251014T143440Z
LAST-MODIFIED:20251014T160041Z
UID:14049-1762369200-1762369200@settleharriers.org
SUMMARY:Wednesday evening run
DESCRIPTION:Cleatop Woods\, Lambert Lane Attirmire Scar circular trail run
URL:https://settleharriers.org/event/wednesday-evening-run-76/
LOCATION:Settle Market Place\, 3P9F+F67 Settle
CATEGORIES:Social Run
ATTACH;FMTTYPE=image/png:https://settleharriers.org/wp-content/uploads/2024/08/weds_run-e1724149034228.png
END:VEVENT
BEGIN:VEVENT
DTSTART;TZID=Europe/London:20251103T190000
DTEND;TZID=Europe/London:20251103T203000
DTSTAMP:20260421T014117
CREATED:20251019T150306Z
LAST-MODIFIED:20251019T150613Z
UID:14293-1762196400-1762201800@settleharriers.org
SUMMARY:Monday Evening Run
DESCRIPTION:Jubilee Cave Warrendale Loop
URL:https://settleharriers.org/event/monday-evening-run-123/
LOCATION:Settle Market Place\, 3P9F+F67 Settle
CATEGORIES:Social Run
ATTACH;FMTTYPE=image/png:https://settleharriers.org/wp-content/uploads/2024/08/mon_run-1-e1724149191804.png
END:VEVENT
BEGIN:VEVENT
DTSTART;TZID=Europe/London:20251101T110000
DTEND;TZID=Europe/London:20251101T130000
DTSTAMP:20260421T014117
CREATED:20251014T140608Z
LAST-MODIFIED:20251014T140608Z
UID:14006-1761994800-1762002000@settleharriers.org
SUMMARY:Shepherds' Skyline
DESCRIPTION:Last Championship race of the season.
URL:https://settleharriers.org/event/shepherds-skyline/
LOCATION:The Shepherds Rest Inn\, Lumbutts Road\, Todmorden
CATEGORIES:Championship Race
ATTACH;FMTTYPE=image/png:https://settleharriers.org/wp-content/uploads/2024/08/champs_race-e1724149105356.png
END:VEVENT
END:VCALENDAR