BEGIN:VCALENDAR
VERSION:2.0
PRODID:-//Settle Harriers Running Club - ECPv6.15.20//NONSGML v1.0//EN
CALSCALE:GREGORIAN
METHOD:PUBLISH
X-ORIGINAL-URL:https://settleharriers.org
X-WR-CALDESC:Events for Settle Harriers Running Club
REFRESH-INTERVAL;VALUE=DURATION:PT1H
X-Robots-Tag:noindex
X-PUBLISHED-TTL:PT1H
BEGIN:VTIMEZONE
TZID:Europe/London
BEGIN:DAYLIGHT
TZOFFSETFROM:+0000
TZOFFSETTO:+0100
TZNAME:BST
DTSTART:20240331T010000
END:DAYLIGHT
BEGIN:STANDARD
TZOFFSETFROM:+0100
TZOFFSETTO:+0000
TZNAME:GMT
DTSTART:20241027T010000
END:STANDARD
BEGIN:DAYLIGHT
TZOFFSETFROM:+0000
TZOFFSETTO:+0100
TZNAME:BST
DTSTART:20250330T010000
END:DAYLIGHT
BEGIN:STANDARD
TZOFFSETFROM:+0100
TZOFFSETTO:+0000
TZNAME:GMT
DTSTART:20251026T010000
END:STANDARD
BEGIN:DAYLIGHT
TZOFFSETFROM:+0000
TZOFFSETTO:+0100
TZNAME:BST
DTSTART:20260329T010000
END:DAYLIGHT
BEGIN:STANDARD
TZOFFSETFROM:+0100
TZOFFSETTO:+0000
TZNAME:GMT
DTSTART:20261025T010000
END:STANDARD
END:VTIMEZONE
BEGIN:VEVENT
DTSTART;TZID=Europe/London:20250319T190000
DTEND;TZID=Europe/London:20250319T203000
DTSTAMP:20260420T232545
CREATED:20240923T103034Z
LAST-MODIFIED:20240923T110843Z
UID:11703-1742410800-1742416200@settleharriers.org
SUMMARY:Wednesday evening run
DESCRIPTION:Victoria Cave / Attermire Scar trail loop 9.5k
URL:https://settleharriers.org/event/wednesday-evening-run-30/
LOCATION:Settle Market Place\, 3P9F+F67 Settle
CATEGORIES:Social Run
ATTACH;FMTTYPE=image/png:https://settleharriers.org/wp-content/uploads/2024/08/weds_run-e1724149034228.png
END:VEVENT
BEGIN:VEVENT
DTSTART;TZID=Europe/London:20250324T180000
DTEND;TZID=Europe/London:20250324T193000
DTSTAMP:20260420T232545
CREATED:20241029T123955Z
LAST-MODIFIED:20250323T195520Z
UID:11973-1742839200-1742844600@settleharriers.org
SUMMARY:Monday evening run
DESCRIPTION:Cleatop Woods and Hunter Bark – 8km – Off road (6pm Start)
URL:https://settleharriers.org/event/monday-evening-run-52/
LOCATION:Settle Market Place\, 3P9F+F67 Settle
CATEGORIES:Social Run
ATTACH;FMTTYPE=image/png:https://settleharriers.org/wp-content/uploads/2024/08/mon_run-1-e1724149191804.png
END:VEVENT
BEGIN:VEVENT
DTSTART;TZID=Europe/London:20250324T190000
DTEND;TZID=Europe/London:20250324T203000
DTSTAMP:20260420T232545
CREATED:20250425T145649Z
LAST-MODIFIED:20250425T150053Z
UID:13452-1742842800-1742848200@settleharriers.org
SUMMARY:Monday evening run
DESCRIPTION:Cleatop Woods – 8km
URL:https://settleharriers.org/event/monday-evening-run-84/
LOCATION:Settle Market Place\, 3P9F+F67 Settle
CATEGORIES:Social Run
END:VEVENT
BEGIN:VEVENT
DTSTART;TZID=Europe/London:20250326T183000
DTEND;TZID=Europe/London:20250326T200000
DTSTAMP:20260420T232545
CREATED:20240923T103034Z
LAST-MODIFIED:20240923T110818Z
UID:11704-1743013800-1743019200@settleharriers.org
SUMMARY:Wednesday evening run
DESCRIPTION:Twistleton Scar trail run 9.5k
URL:https://settleharriers.org/event/wednesday-evening-run-31/
LOCATION:Kingsdale/Turbury Road (GR 691757)\, 5GGG+C5R Carnforth
CATEGORIES:Social Run
ATTACH;FMTTYPE=image/png:https://settleharriers.org/wp-content/uploads/2024/08/weds_run-e1724149034228.png
END:VEVENT
BEGIN:VEVENT
DTSTART;TZID=Europe/London:20250331T183000
DTEND;TZID=Europe/London:20250331T200000
DTSTAMP:20260420T232545
CREATED:20241029T124009Z
LAST-MODIFIED:20250323T195549Z
UID:11974-1743445800-1743451200@settleharriers.org
SUMMARY:Monday evening run
DESCRIPTION:Helwith Bridge Trail – 10km – Off road
URL:https://settleharriers.org/event/monday-evening-run-53/
LOCATION:Helwith Bridge Inn\, 4PC5+JR Settle
CATEGORIES:Social Run
ATTACH;FMTTYPE=image/png:https://settleharriers.org/wp-content/uploads/2024/08/mon_run-1-e1724149191804.png
END:VEVENT
BEGIN:VEVENT
DTSTART;TZID=Europe/London:20250331T190000
DTEND;TZID=Europe/London:20250331T203000
DTSTAMP:20260420T232545
CREATED:20250425T145649Z
LAST-MODIFIED:20250425T150053Z
UID:13453-1743447600-1743453000@settleharriers.org
SUMMARY:Monday evening run
DESCRIPTION:Trail Loop – 7km
URL:https://settleharriers.org/event/monday-evening-run-85/
LOCATION:Helwith Bridge Inn\, 4PC5+JR Settle
CATEGORIES:Social Run
END:VEVENT
BEGIN:VEVENT
DTSTART;TZID=Europe/London:20250402T183000
DTEND;TZID=Europe/London:20250402T200000
DTSTAMP:20260420T232545
CREATED:20250408T082607Z
LAST-MODIFIED:20250408T091634Z
UID:13241-1743618600-1743624000@settleharriers.org
SUMMARY:Wednesday evening run
DESCRIPTION:Ascrow Quarry\, Moughton Scar\, Horton in Ribblesdale Fell / Trail 10.5k – Afterwards at: Helwith Bridge Inn
URL:https://settleharriers.org/event/wednesday-evening-run-35/
LOCATION:Helwith Bridge Inn\, 4PC5+JR Settle
CATEGORIES:Social Run
END:VEVENT
BEGIN:VEVENT
DTSTART;TZID=Europe/London:20250407T190000
DTEND;TZID=Europe/London:20250407T203000
DTSTAMP:20260420T232545
CREATED:20241029T124010Z
LAST-MODIFIED:20250425T150053Z
UID:11975-1744052400-1744057800@settleharriers.org
SUMMARY:Monday evening run
DESCRIPTION:Winskill Loop – 7km
URL:https://settleharriers.org/event/monday-evening-run-54/
LOCATION:Settle Market Place\, 3P9F+F67 Settle
CATEGORIES:Social Run
ATTACH;FMTTYPE=image/png:https://settleharriers.org/wp-content/uploads/2024/08/mon_run-1-e1724149191804.png
END:VEVENT
BEGIN:VEVENT
DTSTART;TZID=Europe/London:20250409T190000
DTEND;TZID=Europe/London:20250409T203000
DTSTAMP:20260420T232545
CREATED:20250408T082607Z
LAST-MODIFIED:20250408T093130Z
UID:13242-1744225200-1744230600@settleharriers.org
SUMMARY:Wednesday evening run
DESCRIPTION:New & Exciting John Oz Trail 10k – Afterwards at: Peaks & Troughs Ingleton.
URL:https://settleharriers.org/event/wednesday-evening-run-36/
LOCATION:Ingleton Community Centre\, 5G2J+Q9V Carnforth
CATEGORIES:Social Run
ATTACH;FMTTYPE=image/png:https://settleharriers.org/wp-content/uploads/2024/08/weds_run-e1724149034228.png
END:VEVENT
BEGIN:VEVENT
DTSTART;TZID=Europe/London:20250414T190000
DTEND;TZID=Europe/London:20250414T203000
DTSTAMP:20260420T232545
CREATED:20241029T124010Z
LAST-MODIFIED:20250425T150053Z
UID:11976-1744657200-1744662600@settleharriers.org
SUMMARY:Monday evening run
DESCRIPTION:Gisburn Forest Loop  – 7- 10km
URL:https://settleharriers.org/event/monday-evening-run-55/
LOCATION:Gisburn Forest (Tosside)\, 2J2W+363 Skipton
CATEGORIES:Social Run
ATTACH;FMTTYPE=image/png:https://settleharriers.org/wp-content/uploads/2024/08/mon_run-1-e1724149191804.png
END:VEVENT
BEGIN:VEVENT
DTSTART;TZID=Europe/London:20250416T190000
DTEND;TZID=Europe/London:20250416T203000
DTSTAMP:20260420T232545
CREATED:20250408T091634Z
LAST-MODIFIED:20250408T093104Z
UID:13280-1744830000-1744835400@settleharriers.org
SUMMARY:Wednesday evening run
DESCRIPTION:Gigg Scar – Trail 9.5k – Afterwards at: Harts Head Giggleswick
URL:https://settleharriers.org/event/wednesday-evening-run-37/
LOCATION:Settle Swimming Pool\, 3PF8+796 Settle
CATEGORIES:Social Run
ATTACH;FMTTYPE=image/png:https://settleharriers.org/wp-content/uploads/2024/08/weds_run-e1724149034228.png
END:VEVENT
BEGIN:VEVENT
DTSTART;TZID=Europe/London:20250421T190000
DTEND;TZID=Europe/London:20250421T203000
DTSTAMP:20260420T232545
CREATED:20241029T124010Z
LAST-MODIFIED:20250425T150054Z
UID:11977-1745262000-1745267400@settleharriers.org
SUMMARY:Monday evening run
DESCRIPTION:Sugar Loaf – 9km
URL:https://settleharriers.org/event/monday-evening-run-56/
LOCATION:Settle Market Place\, 3P9F+F67 Settle
CATEGORIES:Social Run
ATTACH;FMTTYPE=image/png:https://settleharriers.org/wp-content/uploads/2024/08/mon_run-1-e1724149191804.png
END:VEVENT
BEGIN:VEVENT
DTSTART;TZID=Europe/London:20250423T190000
DTEND;TZID=Europe/London:20250423T203000
DTSTAMP:20260420T232545
CREATED:20250408T091634Z
LAST-MODIFIED:20250408T093436Z
UID:13281-1745434800-1745440200@settleharriers.org
SUMMARY:Wednesday evening run
DESCRIPTION:Backyard Ultra route – Trail 6.8k – Afterwards at: Gamecock Inn
URL:https://settleharriers.org/event/wednesday-evening-run-38/
LOCATION:Austwick Game Cock\, 4J6V+R55 Lancaster
CATEGORIES:Social Run
ATTACH;FMTTYPE=image/png:https://settleharriers.org/wp-content/uploads/2024/08/weds_run-e1724149034228.png
END:VEVENT
BEGIN:VEVENT
DTSTART;TZID=Europe/London:20250428T190000
DTEND;TZID=Europe/London:20250428T203000
DTSTAMP:20260420T232545
CREATED:20241029T124011Z
LAST-MODIFIED:20250425T150055Z
UID:11978-1745866800-1745872200@settleharriers.org
SUMMARY:Monday evening run
DESCRIPTION:Giggleswick Scar – 8km
URL:https://settleharriers.org/event/monday-evening-run-57/
LOCATION:Settle Swimming Pool\, 3PF8+796 Settle
CATEGORIES:Social Run
ATTACH;FMTTYPE=image/png:https://settleharriers.org/wp-content/uploads/2024/08/mon_run-1-e1724149191804.png
END:VEVENT
BEGIN:VEVENT
DTSTART;TZID=Europe/London:20250430T190000
DTEND;TZID=Europe/London:20250430T203000
DTSTAMP:20260420T232545
CREATED:20250408T091634Z
LAST-MODIFIED:20250427T110626Z
UID:13282-1746039600-1746045000@settleharriers.org
SUMMARY:Wednesday evening run
DESCRIPTION:River Wenning Low Bentham ‘shaky bridge’ circular Trail 9k – Afterwards Hoggs ‘N’ Heiffers Bar
URL:https://settleharriers.org/event/wednesday-evening-run-39/
LOCATION:Lairgill Car Park Butts Lane High Bentham\, 4F9W+J2G Lancaster
CATEGORIES:Social Run
ATTACH;FMTTYPE=image/png:https://settleharriers.org/wp-content/uploads/2024/08/weds_run-e1724149034228.png
END:VEVENT
BEGIN:VEVENT
DTSTART;TZID=Europe/London:20250505T190000
DTEND;TZID=Europe/London:20250505T203000
DTSTAMP:20260420T232545
CREATED:20250425T150055Z
LAST-MODIFIED:20250504T114111Z
UID:13464-1746471600-1746477000@settleharriers.org
SUMMARY:Monday evening run
DESCRIPTION:Bluebells on Oxenber
URL:https://settleharriers.org/event/monday-evening-run-86/
LOCATION:Austwick Bridge\, 4J5W+V6Q Lancaster
CATEGORIES:Social Run
ATTACH;FMTTYPE=image/png:https://settleharriers.org/wp-content/uploads/2025/04/taster_run-e1745919448283.png
END:VEVENT
BEGIN:VEVENT
DTSTART;TZID=Europe/London:20250507T190000
DTEND;TZID=Europe/London:20250507T203000
DTSTAMP:20260420T232545
CREATED:20250408T091636Z
LAST-MODIFIED:20250408T092938Z
UID:13283-1746644400-1746649800@settleharriers.org
SUMMARY:Wednesday evening run
DESCRIPTION:Littondale Circuit – Fell 13k – Afterwards at: Helwith Bridge Inn
URL:https://settleharriers.org/event/wednesday-evening-run-40/
LOCATION:Dawson Close – Off the Stainforth to Halton Gill Road\, 5Q2G+FVW Skipton
CATEGORIES:Social Run
ATTACH;FMTTYPE=image/png:https://settleharriers.org/wp-content/uploads/2024/08/weds_run-e1724149034228.png
END:VEVENT
BEGIN:VEVENT
DTSTART;TZID=Europe/London:20250511T190000
DTEND;TZID=Europe/London:20250511T203000
DTSTAMP:20260420T232545
CREATED:20250929T160142Z
LAST-MODIFIED:20251014T142253Z
UID:13962-1746990000-1746995400@settleharriers.org
SUMMARY:Wednesday evening run
DESCRIPTION:Cleatop Woods\, Lambert Lane Attirmire Scar circular trail run
URL:https://settleharriers.org/event/wednesday-evening-run-63/
CATEGORIES:Social Run
END:VEVENT
BEGIN:VEVENT
DTSTART;TZID=Europe/London:20250512T190000
DTEND;TZID=Europe/London:20250512T203000
DTSTAMP:20260420T232545
CREATED:20250425T150055Z
LAST-MODIFIED:20250504T114229Z
UID:13465-1747076400-1747081800@settleharriers.org
SUMMARY:Monday evening run
DESCRIPTION:Tunnels\, Big Cairn and Norber – 8km
URL:https://settleharriers.org/event/monday-evening-run-87/
LOCATION:Clapham Car Park\, 4J95+6M Lancaster
CATEGORIES:Social Run
ATTACH;FMTTYPE=image/png:https://settleharriers.org/wp-content/uploads/2024/08/mon_run-1-e1724149191804.png
END:VEVENT
BEGIN:VEVENT
DTSTART;TZID=Europe/London:20250514T190000
DTEND;TZID=Europe/London:20250514T203000
DTSTAMP:20260420T232545
CREATED:20250408T091636Z
LAST-MODIFIED:20250427T111126Z
UID:13284-1747249200-1747254600@settleharriers.org
SUMMARY:Wednesday evening run
DESCRIPTION:River route up to Bull Pot Farm – Fell 11k – Afterwards at: Marton Arms Thornton In Lonsdale
URL:https://settleharriers.org/event/wednesday-evening-run-41/
LOCATION:Knights Stainforth\, Little Stainforth\, Settle BD24 0DP\, United Kingdom
CATEGORIES:Social Run
ATTACH;FMTTYPE=image/png:https://settleharriers.org/wp-content/uploads/2024/08/weds_run-e1724149034228.png
END:VEVENT
BEGIN:VEVENT
DTSTART;TZID=Europe/London:20250519T190000
DTEND;TZID=Europe/London:20250519T203000
DTSTAMP:20260420T232545
CREATED:20250425T150055Z
LAST-MODIFIED:20250518T142928Z
UID:13466-1747681200-1747686600@settleharriers.org
SUMMARY:Monday evening run
DESCRIPTION:A Loop from Settle 7.5km
URL:https://settleharriers.org/event/monday-evening-run-88/
LOCATION:Settle Market Place\, 3P9F+F67 Settle
CATEGORIES:Social Run
ATTACH;FMTTYPE=image/png:https://settleharriers.org/wp-content/uploads/2024/08/mon_run-1-e1724149191804.png
END:VEVENT
BEGIN:VEVENT
DTSTART;TZID=Europe/London:20250521T190000
DTEND;TZID=Europe/London:20250521T203000
DTSTAMP:20260420T232545
CREATED:20250408T091636Z
LAST-MODIFIED:20250408T092837Z
UID:13285-1747854000-1747859400@settleharriers.org
SUMMARY:Wednesday evening run
DESCRIPTION:Hutton Roof Crags – Trail 11.3k – Afterwards at: Kirkby Lonsdale Brewery
URL:https://settleharriers.org/event/wednesday-evening-run-42/
LOCATION:Hutton Roof Village Hall\, 682Q+MR Carnforth
CATEGORIES:Social Run
ATTACH;FMTTYPE=image/png:https://settleharriers.org/wp-content/uploads/2024/08/weds_run-e1724149034228.png
END:VEVENT
BEGIN:VEVENT
DTSTART;TZID=Europe/London:20250526T183000
DTEND;TZID=Europe/London:20250526T203000
DTSTAMP:20260420T232545
CREATED:20250425T150055Z
LAST-MODIFIED:20250425T150606Z
UID:13467-1748284200-1748291400@settleharriers.org
SUMMARY:Monday evening run
DESCRIPTION:Loop – 10km
URL:https://settleharriers.org/event/monday-evening-run-89/
LOCATION:Stainforth Car Park\, 4P2F+CJ Settle
CATEGORIES:Social Run
ATTACH;FMTTYPE=image/png:https://settleharriers.org/wp-content/uploads/2024/08/mon_run-1-e1724149191804.png
END:VEVENT
BEGIN:VEVENT
DTSTART;TZID=Europe/London:20250528T190000
DTEND;TZID=Europe/London:20250528T203000
DTSTAMP:20260420T232545
CREATED:20250408T091636Z
LAST-MODIFIED:20250427T111455Z
UID:13286-1748458800-1748464200@settleharriers.org
SUMMARY:Wednesday evening run
DESCRIPTION:Janet’s Foss/Goredale Scar/Malham Cove –  Trail 10k – Afterwards at: Lister Arms Malham
URL:https://settleharriers.org/event/wednesday-evening-run-43/
LOCATION:Malham NP Car Park\, 3R6W+45 Skipton
CATEGORIES:Social Run
ATTACH;FMTTYPE=image/png:https://settleharriers.org/wp-content/uploads/2024/08/weds_run-e1724149034228.png
END:VEVENT
BEGIN:VEVENT
DTSTART;TZID=Europe/London:20250604T190000
DTEND;TZID=Europe/London:20250604T203000
DTSTAMP:20260420T232545
CREATED:20250408T091636Z
LAST-MODIFIED:20250603T125720Z
UID:13287-1749063600-1749069000@settleharriers.org
SUMMARY:Summer Handicap
DESCRIPTION:Summer Handicap – Trail 7.4k  – Afterwards at: Knights Table 
URL:https://settleharriers.org/event/wednesday-evening-run-44/
LOCATION:Knights Stainforth\, Little Stainforth\, Settle BD24 0DP\, United Kingdom
CATEGORIES:Social Run
ATTACH;FMTTYPE=image/png:https://settleharriers.org/wp-content/uploads/2024/08/race-e1724148906550.png
END:VEVENT
BEGIN:VEVENT
DTSTART;TZID=Europe/London:20250609T190000
DTEND;TZID=Europe/London:20250609T203000
DTSTAMP:20260420T232545
CREATED:20250425T150110Z
LAST-MODIFIED:20250608T124206Z
UID:13469-1749495600-1749501000@settleharriers.org
SUMMARY:Monday evening run
DESCRIPTION:Helwith Bridge Trail Loop – 7.5km
URL:https://settleharriers.org/event/monday-evening-run-91/
LOCATION:Helwith Bridge Inn\, 4PC5+JR Settle
CATEGORIES:Social Run
ATTACH;FMTTYPE=image/png:https://settleharriers.org/wp-content/uploads/2024/08/mon_run-1-e1724149191804.png
END:VEVENT
BEGIN:VEVENT
DTSTART;TZID=Europe/London:20250611T190000
DTEND;TZID=Europe/London:20250611T203000
DTSTAMP:20260420T232545
CREATED:20250408T091651Z
LAST-MODIFIED:20250427T113509Z
UID:13288-1749668400-1749673800@settleharriers.org
SUMMARY:Wednesday evening run
DESCRIPTION:Settle Hills Race Route – Trail 11k – Afterwards at: Talbot Arms Settle
URL:https://settleharriers.org/event/wednesday-evening-run-45/
LOCATION:Settle Market Place\, 3P9F+F67 Settle
CATEGORIES:Social Run
ATTACH;FMTTYPE=image/png:https://settleharriers.org/wp-content/uploads/2024/08/weds_run-e1724149034228.png
END:VEVENT
BEGIN:VEVENT
DTSTART;TZID=Europe/London:20250616T103000
DTEND;TZID=Europe/London:20250616T203000
DTSTAMP:20260420T232545
CREATED:20250425T150110Z
LAST-MODIFIED:20250425T150809Z
UID:13470-1750069800-1750105800@settleharriers.org
SUMMARY:Monday evening run
DESCRIPTION:A Loop from Settle – 7.5km
URL:https://settleharriers.org/event/monday-evening-run-92/
LOCATION:Settle Market Place\, 3P9F+F67 Settle
CATEGORIES:Social Run
ATTACH;FMTTYPE=image/png:https://settleharriers.org/wp-content/uploads/2024/08/mon_run-1-e1724149191804.png
END:VEVENT
BEGIN:VEVENT
DTSTART;TZID=Europe/London:20250618T190000
DTEND;TZID=Europe/London:20250618T203000
DTSTAMP:20260420T232545
CREATED:20250408T091651Z
LAST-MODIFIED:20250408T092654Z
UID:13289-1750273200-1750278600@settleharriers.org
SUMMARY:Wednesday evening run
DESCRIPTION:Nab\, Arrant Haw\, Winder circuit – Fell 11k – Afterwards at: The Dalesman Country Inn
URL:https://settleharriers.org/event/wednesday-evening-run-46/
LOCATION:Sedbergh Spar car park\, 8FF8+52 Sedbergh
CATEGORIES:Social Run
ATTACH;FMTTYPE=image/png:https://settleharriers.org/wp-content/uploads/2024/08/weds_run-e1724149034228.png
END:VEVENT
BEGIN:VEVENT
DTSTART;TZID=Europe/London:20250623T190000
DTEND;TZID=Europe/London:20250623T203000
DTSTAMP:20260420T232545
CREATED:20250425T150110Z
LAST-MODIFIED:20250622T160311Z
UID:13471-1750705200-1750710600@settleharriers.org
SUMMARY:Monday evening run
DESCRIPTION:Colt Park and Thorns  12km trail loop
URL:https://settleharriers.org/event/monday-evening-run-93/
LOCATION:Ribblehead\, 6J5Q+GMW Carnforth
CATEGORIES:Social Run
ATTACH;FMTTYPE=image/png:https://settleharriers.org/wp-content/uploads/2024/08/mon_run-1-e1724149191804.png
END:VEVENT
END:VCALENDAR