BEGIN:VCALENDAR
VERSION:2.0
PRODID:-//Settle Harriers Running Club - ECPv6.15.20//NONSGML v1.0//EN
CALSCALE:GREGORIAN
METHOD:PUBLISH
X-WR-CALNAME:Settle Harriers Running Club
X-ORIGINAL-URL:https://settleharriers.org
X-WR-CALDESC:Events for Settle Harriers Running Club
REFRESH-INTERVAL;VALUE=DURATION:PT1H
X-Robots-Tag:noindex
X-PUBLISHED-TTL:PT1H
BEGIN:VTIMEZONE
TZID:Europe/London
BEGIN:DAYLIGHT
TZOFFSETFROM:+0000
TZOFFSETTO:+0100
TZNAME:BST
DTSTART:20230326T010000
END:DAYLIGHT
BEGIN:STANDARD
TZOFFSETFROM:+0100
TZOFFSETTO:+0000
TZNAME:GMT
DTSTART:20231029T010000
END:STANDARD
BEGIN:DAYLIGHT
TZOFFSETFROM:+0000
TZOFFSETTO:+0100
TZNAME:BST
DTSTART:20240331T010000
END:DAYLIGHT
BEGIN:STANDARD
TZOFFSETFROM:+0100
TZOFFSETTO:+0000
TZNAME:GMT
DTSTART:20241027T010000
END:STANDARD
BEGIN:DAYLIGHT
TZOFFSETFROM:+0000
TZOFFSETTO:+0100
TZNAME:BST
DTSTART:20250330T010000
END:DAYLIGHT
BEGIN:STANDARD
TZOFFSETFROM:+0100
TZOFFSETTO:+0000
TZNAME:GMT
DTSTART:20251026T010000
END:STANDARD
BEGIN:DAYLIGHT
TZOFFSETFROM:+0000
TZOFFSETTO:+0100
TZNAME:BST
DTSTART:20260329T010000
END:DAYLIGHT
BEGIN:STANDARD
TZOFFSETFROM:+0100
TZOFFSETTO:+0000
TZNAME:GMT
DTSTART:20261025T010000
END:STANDARD
END:VTIMEZONE
BEGIN:VEVENT
DTSTART;TZID=Europe/London:20250104T100000
DTEND;TZID=Europe/London:20250104T130000
DTSTAMP:20260420T233914
CREATED:20240820T121605Z
LAST-MODIFIED:20240821T074209Z
UID:11479-1735984800-1735995600@settleharriers.org
SUMMARY:Winter Handicap
DESCRIPTION:Settle Harriers winter handicap
URL:https://settleharriers.org/event/winter-handicap/
LOCATION:Clapham Car Park\, 4J95+6M Lancaster
CATEGORIES:Club event
ATTACH;FMTTYPE=image/png:https://settleharriers.org/wp-content/uploads/2024/08/club_events-e1724159565783.png
END:VEVENT
BEGIN:VEVENT
DTSTART;TZID=Europe/London:20250101T130000
DTEND;TZID=Europe/London:20250101T160000
DTSTAMP:20260420T233914
CREATED:20240923T103006Z
LAST-MODIFIED:20241231T171533Z
UID:11692-1735736400-1735747200@settleharriers.org
SUMMARY:New Year's Day Run
DESCRIPTION:New Year’s Day Special run cancelled due to severe weather
URL:https://settleharriers.org/event/wednesday-evening-run-19/
CATEGORIES:Social Run
ATTACH;FMTTYPE=image/png:https://settleharriers.org/wp-content/uploads/2024/08/social-e1726058202329.png
END:VEVENT
BEGIN:VEVENT
DTSTART;TZID=Europe/London:20241230T103000
DTEND;TZID=Europe/London:20241230T203000
DTSTAMP:20260420T233914
CREATED:20241029T123924Z
LAST-MODIFIED:20241029T131006Z
UID:11961-1735554600-1735590600@settleharriers.org
SUMMARY:Jingleborough
DESCRIPTION:Post Christmas social run up Ingleborough –  8km – Off Road 
URL:https://settleharriers.org/event/monday-evening-run-40/
LOCATION:Cod Bank above Cold Cotes\, 4HQ9+FPC Lancaster
CATEGORIES:Social Run
ATTACH;FMTTYPE=image/png:https://settleharriers.org/wp-content/uploads/2024/08/social-e1726058202329.png
END:VEVENT
BEGIN:VEVENT
DTSTART;TZID=Europe/London:20241223T190000
DTEND;TZID=Europe/London:20241223T203000
DTSTAMP:20260420T233914
CREATED:20241029T122214Z
LAST-MODIFIED:20241029T125930Z
UID:11928-1734980400-1734985800@settleharriers.org
SUMMARY:Monday evening run
DESCRIPTION:Austwick Lanes – 8km – Off Road 
URL:https://settleharriers.org/event/monday-evening-run-21/
LOCATION:Austwick Game Cock\, 4J6V+R55 Lancaster
CATEGORIES:Social Run
ATTACH;FMTTYPE=image/png:https://settleharriers.org/wp-content/uploads/2024/08/mon_run-1-e1724149191804.png
END:VEVENT
BEGIN:VEVENT
DTSTART;TZID=Europe/London:20241223T110000
DTEND;TZID=Europe/London:20241223T170000
DTSTAMP:20260420T233914
CREATED:20241211T164849Z
LAST-MODIFIED:20241211T164946Z
UID:12136-1734951600-1734973200@settleharriers.org
SUMMARY:Xmas Eve MTB/Run/walk
DESCRIPTION:Our traditional Xmas Eve outing with a choice of disciplines. Non-competitive (for most!). Followed by optional social festive freshener at the Helwith Bridge Inn
URL:https://settleharriers.org/event/xmas-eve-mtb-run-walk/
LOCATION:Helwith Bridge Inn\, 4PC5+JR Settle
CATEGORIES:Social Run
ATTACH;FMTTYPE=image/png:https://settleharriers.org/wp-content/uploads/2024/08/club_events-e1724159565783.png
END:VEVENT
BEGIN:VEVENT
DTSTART;TZID=Europe/London:20241218T190000
DTEND;TZID=Europe/London:20241218T203000
DTSTAMP:20260420T233914
CREATED:20240923T103005Z
LAST-MODIFIED:20240923T111227Z
UID:11691-1734548400-1734553800@settleharriers.org
SUMMARY:Wednesday evening run
DESCRIPTION:Crummackdale circuit – trail run 9.5k
URL:https://settleharriers.org/event/wednesday-evening-run-18/
LOCATION:Austwick Game Cock\, 4J6V+R55 Lancaster
CATEGORIES:Social Run
ATTACH;FMTTYPE=image/png:https://settleharriers.org/wp-content/uploads/2024/08/weds_run-e1724149034228.png
END:VEVENT
BEGIN:VEVENT
DTSTART;TZID=Europe/London:20241216T190000
DTEND;TZID=Europe/London:20241216T203000
DTSTAMP:20260420T233914
CREATED:20241029T122214Z
LAST-MODIFIED:20241029T130009Z
UID:11927-1734375600-1734381000@settleharriers.org
SUMMARY:Monday evening run
DESCRIPTION:Pen-Y-Ghent (Full Moon) – 6km – Off Road 
URL:https://settleharriers.org/event/monday-evening-run-20/
LOCATION:Horton Car Park\, 4PX3+GM Settle
CATEGORIES:Social Run
ATTACH;FMTTYPE=image/png:https://settleharriers.org/wp-content/uploads/2024/08/mon_run-1-e1724149191804.png
END:VEVENT
BEGIN:VEVENT
DTSTART;TZID=Europe/London:20241211T190000
DTEND;TZID=Europe/London:20241211T203000
DTSTAMP:20260420T233914
CREATED:20240923T102949Z
LAST-MODIFIED:20240923T111246Z
UID:11690-1733943600-1733949000@settleharriers.org
SUMMARY:Wednesday evening run
DESCRIPTION:Rathmell Wham circular road run 11k
URL:https://settleharriers.org/event/wednesday-evening-run-17/
LOCATION:Giggleswick Station Car Park\, 3M6W+QWC Settle
CATEGORIES:Social Run
ATTACH;FMTTYPE=image/png:https://settleharriers.org/wp-content/uploads/2024/08/weds_run-e1724149034228.png
END:VEVENT
BEGIN:VEVENT
DTSTART;TZID=Europe/London:20241209T200000
DTEND;TZID=Europe/London:20241209T213000
DTSTAMP:20260420T233914
CREATED:20241029T130543Z
LAST-MODIFIED:20241029T130601Z
UID:12054-1733774400-1733779800@settleharriers.org
SUMMARY:Christmas Curry
DESCRIPTION:Christmas Curry at the Ruchee following the Monday run. Contact Debbie Hope to book in
URL:https://settleharriers.org/event/christmas-curry/
ATTACH;FMTTYPE=image/png:https://settleharriers.org/wp-content/uploads/2024/08/social-e1726058202329.png
END:VEVENT
BEGIN:VEVENT
DTSTART;TZID=Europe/London:20241209T183000
DTEND;TZID=Europe/London:20241209T203000
DTSTAMP:20260420T233914
CREATED:20241029T122159Z
LAST-MODIFIED:20241029T130041Z
UID:11926-1733769000-1733776200@settleharriers.org
SUMMARY:Monday evening run
DESCRIPTION:Attermire tops followed by Pre-Xmas curry at Ruchee –  7km – Off Road 
URL:https://settleharriers.org/event/monday-evening-run-19/
LOCATION:Settle Market Place\, 3P9F+F67 Settle
CATEGORIES:Social Run
ATTACH;FMTTYPE=image/png:https://settleharriers.org/wp-content/uploads/2024/08/mon_run-1-e1724149191804.png
END:VEVENT
BEGIN:VEVENT
DTSTART;TZID=Europe/London:20241204T190000
DTEND;TZID=Europe/London:20241204T203000
DTSTAMP:20260420T233914
CREATED:20240923T102949Z
LAST-MODIFIED:20241204T080926Z
UID:11689-1733338800-1733344200@settleharriers.org
SUMMARY:Wednesday evening run
DESCRIPTION:Cold Cotes circular road run 9.5k
URL:https://settleharriers.org/event/wednesday-evening-run-16/
LOCATION:Ingleton Community Centre\, 5G2J+Q9V Carnforth
CATEGORIES:Social Run
ATTACH;FMTTYPE=image/png:https://settleharriers.org/wp-content/uploads/2024/08/weds_run-e1724149034228.png
END:VEVENT
BEGIN:VEVENT
DTSTART;TZID=Europe/London:20241202T190000
DTEND;TZID=Europe/London:20241202T203000
DTSTAMP:20260420T233914
CREATED:20241029T122159Z
LAST-MODIFIED:20241202T095349Z
UID:11925-1733166000-1733171400@settleharriers.org
SUMMARY:Monday evening run
DESCRIPTION:Settle to Langcliffe Loop
URL:https://settleharriers.org/event/monday-evening-run-18/
LOCATION:Simons House\, 3PF8+6G5 Settle
CATEGORIES:Social Run
ATTACH;FMTTYPE=image/png:https://settleharriers.org/wp-content/uploads/2024/08/mon_run-1-e1724149191804.png
END:VEVENT
BEGIN:VEVENT
DTSTART;TZID=Europe/London:20241130T190000
DTEND;TZID=Europe/London:20241130T230000
DTSTAMP:20260420T233914
CREATED:20240911T123239Z
LAST-MODIFIED:20240911T123239Z
UID:11640-1732993200-1733007600@settleharriers.org
SUMMARY:Seniors Awards Night and Xmas do
DESCRIPTION:Save the date – more details to follow
URL:https://settleharriers.org/event/seniors-awards-night-and-xmas-do/
LOCATION:Clapham Village Hall\, Clapham Village Hall\, Clapham\, United Kingdom
CATEGORIES:Club event
ATTACH;FMTTYPE=image/png:https://settleharriers.org/wp-content/uploads/2024/08/social-e1726058202329.png
END:VEVENT
BEGIN:VEVENT
DTSTART;TZID=Europe/London:20241127T190000
DTEND;TZID=Europe/London:20241127T203000
DTSTAMP:20260420T233914
CREATED:20240923T102949Z
LAST-MODIFIED:20240923T111326Z
UID:11688-1732734000-1732739400@settleharriers.org
SUMMARY:Wednesday evening run
DESCRIPTION:Airton – Kirkby Malham circular road run 10k
URL:https://settleharriers.org/event/wednesday-evening-run-15/
LOCATION:Kirkby Malham (Near Victoria)\, 2RVQ+V4 Skipton
CATEGORIES:Social Run
ATTACH;FMTTYPE=image/png:https://settleharriers.org/wp-content/uploads/2024/08/weds_run-e1724149034228.png
END:VEVENT
BEGIN:VEVENT
DTSTART;TZID=Europe/London:20241125T190000
DTEND;TZID=Europe/London:20241125T203000
DTSTAMP:20260420T233914
CREATED:20241029T122159Z
LAST-MODIFIED:20241119T115502Z
UID:11924-1732561200-1732566600@settleharriers.org
SUMMARY:Monday evening run
DESCRIPTION:Quarry Trail Loop –  8km – Off Road
URL:https://settleharriers.org/event/monday-evening-run-17/
LOCATION:Helwith Bridge Inn\, 4PC5+JR Settle
CATEGORIES:Social Run
ATTACH;FMTTYPE=image/png:https://settleharriers.org/wp-content/uploads/2024/08/mon_run-1-e1724149191804.png
END:VEVENT
BEGIN:VEVENT
DTSTART;TZID=Europe/London:20241124T100000
DTEND;TZID=Europe/London:20241124T170000
DTSTAMP:20260420T233914
CREATED:20240923T112138Z
LAST-MODIFIED:20240923T112138Z
UID:11807-1732442400-1732467600@settleharriers.org
SUMMARY:Lee Mill Relay
DESCRIPTION:Teams of four\, 11km/340m flagged legs. \nContact Kirsten or Roger if you are interested in being in a Settle Harriers team.
URL:https://settleharriers.org/event/lee-mill-relay/
CATEGORIES:Races
ATTACH;FMTTYPE=image/png:https://settleharriers.org/wp-content/uploads/2024/08/race-e1724148906550.png
END:VEVENT
BEGIN:VEVENT
DTSTART;TZID=Europe/London:20241120T190000
DTEND;TZID=Europe/London:20241120T203000
DTSTAMP:20260420T233914
CREATED:20240923T102949Z
LAST-MODIFIED:20240923T111344Z
UID:11687-1732129200-1732134600@settleharriers.org
SUMMARY:Wednesday evening run
DESCRIPTION:Dub Cote Brackenbottom Horton River Ribble route – trail run 9.5k
URL:https://settleharriers.org/event/wednesday-evening-run-14/
LOCATION:Helwith Bridge Inn\, 4PC5+JR Settle
CATEGORIES:Social Run
ATTACH;FMTTYPE=image/png:https://settleharriers.org/wp-content/uploads/2024/08/weds_run-e1724149034228.png
END:VEVENT
BEGIN:VEVENT
DTSTART;TZID=Europe/London:20241118T190000
DTEND;TZID=Europe/London:20241118T203000
DTSTAMP:20260420T233914
CREATED:20241029T122159Z
LAST-MODIFIED:20241117T112500Z
UID:11923-1731956400-1731961800@settleharriers.org
SUMMARY:Monday evening run
DESCRIPTION:Austwick Lanes – 8km – Off Road
URL:https://settleharriers.org/event/monday-evening-run-16/
LOCATION:Austwick Game Cock\, 4J6V+R55 Lancaster
CATEGORIES:Social Run
ATTACH;FMTTYPE=image/png:https://settleharriers.org/wp-content/uploads/2024/08/mon_run-1-e1724149191804.png
END:VEVENT
BEGIN:VEVENT
DTSTART;TZID=Europe/London:20241117T121500
DTEND;TZID=Europe/London:20241117T121500
DTSTAMP:20260420T233914
CREATED:20240819T143521Z
LAST-MODIFIED:20240822T091709Z
UID:11385-1731845700-1731845700@settleharriers.org
SUMMARY:Championship Race
DESCRIPTION:Arnside Knott
URL:https://settleharriers.org/event/championship-race-5/
CATEGORIES:Championship Race
ATTACH;FMTTYPE=image/png:https://settleharriers.org/wp-content/uploads/2024/08/champs_race-e1724149105356.png
END:VEVENT
BEGIN:VEVENT
DTSTART;TZID=Europe/London:20241113T190000
DTEND;TZID=Europe/London:20241113T203000
DTSTAMP:20260420T233914
CREATED:20240923T102949Z
LAST-MODIFIED:20241112T192835Z
UID:11686-1731524400-1731529800@settleharriers.org
SUMMARY:Wednesday evening run
DESCRIPTION:Fell Lane/Skirwith/Ingleton Quarry/Stepping Stones/Beezley circular trail run 9.5k
URL:https://settleharriers.org/event/wednesday-evening-run-13/
LOCATION:Ingleton Community Centre\, 5G2J+Q9V Carnforth
CATEGORIES:Social Run
ATTACH;FMTTYPE=image/png:https://settleharriers.org/wp-content/uploads/2024/08/weds_run-e1724149034228.png
END:VEVENT
BEGIN:VEVENT
DTSTART;TZID=Europe/London:20241111T190000
DTEND;TZID=Europe/London:20241111T203000
DTSTAMP:20260420T233914
CREATED:20241029T122158Z
LAST-MODIFIED:20241029T130230Z
UID:11922-1731351600-1731357000@settleharriers.org
SUMMARY:Monday evening run
DESCRIPTION:Jubilee Cave – Warrendale Loop –  8km – Off Road 
URL:https://settleharriers.org/event/monday-evening-run-15/
LOCATION:Settle Market Place\, 3P9F+F67 Settle
CATEGORIES:Social Run
ATTACH;FMTTYPE=image/png:https://settleharriers.org/wp-content/uploads/2024/08/mon_run-1-e1724149191804.png
END:VEVENT
BEGIN:VEVENT
DTSTART;TZID=Europe/London:20241110T110000
DTEND;TZID=Europe/London:20241110T110000
DTSTAMP:20260420T233914
CREATED:20240819T143506Z
LAST-MODIFIED:20240822T091708Z
UID:11384-1731236400-1731236400@settleharriers.org
SUMMARY:Championship Race
DESCRIPTION:Wadsworth Half Trog
URL:https://settleharriers.org/event/championship-race-4/
CATEGORIES:Championship Race
ATTACH;FMTTYPE=image/png:https://settleharriers.org/wp-content/uploads/2024/08/champs_race-e1724149105356.png
END:VEVENT
BEGIN:VEVENT
DTSTART;TZID=Europe/London:20241106T190000
DTEND;TZID=Europe/London:20241106T203000
DTSTAMP:20260420T233914
CREATED:20240923T102934Z
LAST-MODIFIED:20240923T111439Z
UID:11685-1730919600-1730925000@settleharriers.org
SUMMARY:Wednesday evening run
DESCRIPTION:Cleatop Woods\, Lambert Lane Attirmire Scar circular trail run 9k
URL:https://settleharriers.org/event/wednesday-evening-run-12/
LOCATION:Settle Market Place\, 3P9F+F67 Settle
CATEGORIES:Social Run
ATTACH;FMTTYPE=image/png:https://settleharriers.org/wp-content/uploads/2024/08/weds_run-e1724149034228.png
END:VEVENT
BEGIN:VEVENT
DTSTART;TZID=Europe/London:20241104T190000
DTEND;TZID=Europe/London:20241104T203000
DTSTAMP:20260420T233914
CREATED:20241029T122158Z
LAST-MODIFIED:20241029T124715Z
UID:11921-1730746800-1730752200@settleharriers.org
SUMMARY:Monday evening run
DESCRIPTION:Big Cairn Autumn Special –  7km – Off Road 
URL:https://settleharriers.org/event/monday-evening-run-14/
LOCATION:Austwick Game Cock\, 4J6V+R55 Lancaster
CATEGORIES:Social Run
ATTACH;FMTTYPE=image/png:https://settleharriers.org/wp-content/uploads/2024/08/mon_run-1-e1724149191804.png
END:VEVENT
BEGIN:VEVENT
DTSTART;TZID=Europe/London:20241030T190000
DTEND;TZID=Europe/London:20241030T203000
DTSTAMP:20260420T233914
CREATED:20240923T102934Z
LAST-MODIFIED:20241030T174521Z
UID:11684-1730314800-1730320200@settleharriers.org
SUMMARY:Wednesday evening run
DESCRIPTION:Bowland Knotts linear road run 12k \n  \nMeet at Clapham Station\, W3W https://what3words.com/directors.songs.claw
URL:https://settleharriers.org/event/wednesday-evening-run-11/
LOCATION:Clapham Station\, 4H4Q+5XC Lancaster
CATEGORIES:Social Run
ATTACH;FMTTYPE=image/png:https://settleharriers.org/wp-content/uploads/2024/08/weds_run-e1724149034228.png
END:VEVENT
BEGIN:VEVENT
DTSTART;TZID=Europe/London:20241028T190000
DTEND;TZID=Europe/London:20241028T203000
DTSTAMP:20260420T233914
CREATED:20241029T122157Z
LAST-MODIFIED:20241029T124414Z
UID:11920-1730142000-1730147400@settleharriers.org
SUMMARY:Monday evening run
DESCRIPTION:Sugar Loaf Loop –  8km – Off Road 
URL:https://settleharriers.org/event/monday-evening-run-13/
LOCATION:Settle Market Place\, 3P9F+F67 Settle
CATEGORIES:Social Run
END:VEVENT
BEGIN:VEVENT
DTSTART;TZID=Europe/London:20241023T190000
DTEND;TZID=Europe/London:20241023T203000
DTSTAMP:20260420T233914
CREATED:20240923T102934Z
LAST-MODIFIED:20241006T140154Z
UID:11683-1729710000-1729715400@settleharriers.org
SUMMARY:Wednesday evening run
DESCRIPTION:Gigg Quarry Stackhouse Trail Run
URL:https://settleharriers.org/event/wednesday-evening-run-10/
LOCATION:Simons House\, 3PF8+6G5 Settle
CATEGORIES:Social Run
ATTACH;FMTTYPE=image/png:https://settleharriers.org/wp-content/uploads/2024/08/weds_run-e1724149034228.png
END:VEVENT
BEGIN:VEVENT
DTSTART;TZID=Europe/London:20241021T190000
DTEND;TZID=Europe/London:20241021T203000
DTSTAMP:20260420T233914
CREATED:20241029T122157Z
LAST-MODIFIED:20241029T124414Z
UID:11919-1729537200-1729542600@settleharriers.org
SUMMARY:Monday evening run
DESCRIPTION:Sell Gill Whitber Loop –  8km – Off Road 
URL:https://settleharriers.org/event/monday-evening-run-12/
LOCATION:Horton Car Park\, 4PX3+GM Settle
CATEGORIES:Social Run
END:VEVENT
BEGIN:VEVENT
DTSTART;TZID=Europe/London:20241019T120000
DTEND;TZID=Europe/London:20241019T120000
DTSTAMP:20260420T233914
CREATED:20240820T091055Z
LAST-MODIFIED:20240820T091528Z
UID:11416-1729339200-1729339200@settleharriers.org
SUMMARY:FRA Fell Relays
DESCRIPTION:UKA Fell and Hill Relay Championships
URL:https://settleharriers.org/event/fra-fell-relays/
CATEGORIES:FRA,Races
ATTACH;FMTTYPE=image/png:https://settleharriers.org/wp-content/uploads/2024/08/race-e1724148906550.png
END:VEVENT
BEGIN:VEVENT
DTSTART;TZID=Europe/London:20241016T190000
DTEND;TZID=Europe/London:20241016T203000
DTSTAMP:20260420T233914
CREATED:20240923T102933Z
LAST-MODIFIED:20240923T111538Z
UID:11682-1729105200-1729110600@settleharriers.org
SUMMARY:Wednesday evening run
DESCRIPTION:Dub Cote Pen y Ghent or Dale Head Goat Lane / Moor Head Lane trail run 11k
URL:https://settleharriers.org/event/wednesday-evening-run-9/
LOCATION:Helwith Bridge Inn\, 4PC5+JR Settle
CATEGORIES:Social Run
ATTACH;FMTTYPE=image/png:https://settleharriers.org/wp-content/uploads/2024/08/weds_run-e1724149034228.png
END:VEVENT
END:VCALENDAR