BEGIN:VCALENDAR
VERSION:2.0
PRODID:-//Settle Harriers Running Club - ECPv6.15.20//NONSGML v1.0//EN
CALSCALE:GREGORIAN
METHOD:PUBLISH
X-WR-CALNAME:Settle Harriers Running Club
X-ORIGINAL-URL:https://settleharriers.org
X-WR-CALDESC:Events for Settle Harriers Running Club
REFRESH-INTERVAL;VALUE=DURATION:PT1H
X-Robots-Tag:noindex
X-PUBLISHED-TTL:PT1H
BEGIN:VTIMEZONE
TZID:Europe/London
BEGIN:STANDARD
TZOFFSETFROM:+0100
TZOFFSETTO:+0000
TZNAME:GMT
DTSTART:19711031T020000
END:STANDARD
BEGIN:DAYLIGHT
TZOFFSETFROM:+0000
TZOFFSETTO:+0100
TZNAME:BST
DTSTART:19720319T020000
END:DAYLIGHT
BEGIN:STANDARD
TZOFFSETFROM:+0100
TZOFFSETTO:+0000
TZNAME:GMT
DTSTART:19721029T020000
END:STANDARD
BEGIN:DAYLIGHT
TZOFFSETFROM:+0000
TZOFFSETTO:+0100
TZNAME:BST
DTSTART:19730318T020000
END:DAYLIGHT
BEGIN:STANDARD
TZOFFSETFROM:+0100
TZOFFSETTO:+0000
TZNAME:GMT
DTSTART:19731028T020000
END:STANDARD
BEGIN:DAYLIGHT
TZOFFSETFROM:+0000
TZOFFSETTO:+0100
TZNAME:BST
DTSTART:19740317T020000
END:DAYLIGHT
BEGIN:STANDARD
TZOFFSETFROM:+0100
TZOFFSETTO:+0000
TZNAME:GMT
DTSTART:19741027T020000
END:STANDARD
BEGIN:DAYLIGHT
TZOFFSETFROM:+0000
TZOFFSETTO:+0100
TZNAME:BST
DTSTART:19750316T020000
END:DAYLIGHT
BEGIN:STANDARD
TZOFFSETFROM:+0100
TZOFFSETTO:+0000
TZNAME:GMT
DTSTART:19751026T020000
END:STANDARD
BEGIN:DAYLIGHT
TZOFFSETFROM:+0000
TZOFFSETTO:+0100
TZNAME:BST
DTSTART:19760321T020000
END:DAYLIGHT
BEGIN:STANDARD
TZOFFSETFROM:+0100
TZOFFSETTO:+0000
TZNAME:GMT
DTSTART:19761024T020000
END:STANDARD
BEGIN:DAYLIGHT
TZOFFSETFROM:+0000
TZOFFSETTO:+0100
TZNAME:BST
DTSTART:19770320T020000
END:DAYLIGHT
BEGIN:STANDARD
TZOFFSETFROM:+0100
TZOFFSETTO:+0000
TZNAME:GMT
DTSTART:19771023T020000
END:STANDARD
BEGIN:DAYLIGHT
TZOFFSETFROM:+0000
TZOFFSETTO:+0100
TZNAME:BST
DTSTART:19780319T020000
END:DAYLIGHT
BEGIN:STANDARD
TZOFFSETFROM:+0100
TZOFFSETTO:+0000
TZNAME:GMT
DTSTART:19781029T020000
END:STANDARD
BEGIN:DAYLIGHT
TZOFFSETFROM:+0000
TZOFFSETTO:+0100
TZNAME:BST
DTSTART:19790318T020000
END:DAYLIGHT
BEGIN:STANDARD
TZOFFSETFROM:+0100
TZOFFSETTO:+0000
TZNAME:GMT
DTSTART:19791028T020000
END:STANDARD
BEGIN:DAYLIGHT
TZOFFSETFROM:+0000
TZOFFSETTO:+0100
TZNAME:BST
DTSTART:19800316T020000
END:DAYLIGHT
BEGIN:STANDARD
TZOFFSETFROM:+0100
TZOFFSETTO:+0000
TZNAME:GMT
DTSTART:19801026T020000
END:STANDARD
BEGIN:DAYLIGHT
TZOFFSETFROM:+0000
TZOFFSETTO:+0100
TZNAME:BST
DTSTART:19810329T010000
END:DAYLIGHT
BEGIN:STANDARD
TZOFFSETFROM:+0100
TZOFFSETTO:+0000
TZNAME:GMT
DTSTART:19811025T010000
END:STANDARD
BEGIN:DAYLIGHT
TZOFFSETFROM:+0000
TZOFFSETTO:+0100
TZNAME:BST
DTSTART:19820328T010000
END:DAYLIGHT
BEGIN:STANDARD
TZOFFSETFROM:+0100
TZOFFSETTO:+0000
TZNAME:GMT
DTSTART:19821024T010000
END:STANDARD
BEGIN:DAYLIGHT
TZOFFSETFROM:+0000
TZOFFSETTO:+0100
TZNAME:BST
DTSTART:19830327T010000
END:DAYLIGHT
BEGIN:STANDARD
TZOFFSETFROM:+0100
TZOFFSETTO:+0000
TZNAME:GMT
DTSTART:19831023T010000
END:STANDARD
BEGIN:DAYLIGHT
TZOFFSETFROM:+0000
TZOFFSETTO:+0100
TZNAME:BST
DTSTART:19840325T010000
END:DAYLIGHT
BEGIN:STANDARD
TZOFFSETFROM:+0100
TZOFFSETTO:+0000
TZNAME:GMT
DTSTART:19841028T010000
END:STANDARD
BEGIN:DAYLIGHT
TZOFFSETFROM:+0000
TZOFFSETTO:+0100
TZNAME:BST
DTSTART:19850331T010000
END:DAYLIGHT
BEGIN:STANDARD
TZOFFSETFROM:+0100
TZOFFSETTO:+0000
TZNAME:GMT
DTSTART:19851027T010000
END:STANDARD
BEGIN:DAYLIGHT
TZOFFSETFROM:+0000
TZOFFSETTO:+0100
TZNAME:BST
DTSTART:19860330T010000
END:DAYLIGHT
BEGIN:STANDARD
TZOFFSETFROM:+0100
TZOFFSETTO:+0000
TZNAME:GMT
DTSTART:19861026T010000
END:STANDARD
BEGIN:DAYLIGHT
TZOFFSETFROM:+0000
TZOFFSETTO:+0100
TZNAME:BST
DTSTART:19870329T010000
END:DAYLIGHT
BEGIN:STANDARD
TZOFFSETFROM:+0100
TZOFFSETTO:+0000
TZNAME:GMT
DTSTART:19871025T010000
END:STANDARD
BEGIN:DAYLIGHT
TZOFFSETFROM:+0000
TZOFFSETTO:+0100
TZNAME:BST
DTSTART:19880327T010000
END:DAYLIGHT
BEGIN:STANDARD
TZOFFSETFROM:+0100
TZOFFSETTO:+0000
TZNAME:GMT
DTSTART:19881023T010000
END:STANDARD
BEGIN:DAYLIGHT
TZOFFSETFROM:+0000
TZOFFSETTO:+0100
TZNAME:BST
DTSTART:19890326T010000
END:DAYLIGHT
BEGIN:STANDARD
TZOFFSETFROM:+0100
TZOFFSETTO:+0000
TZNAME:GMT
DTSTART:19891029T010000
END:STANDARD
BEGIN:DAYLIGHT
TZOFFSETFROM:+0000
TZOFFSETTO:+0100
TZNAME:BST
DTSTART:19900325T010000
END:DAYLIGHT
BEGIN:STANDARD
TZOFFSETFROM:+0100
TZOFFSETTO:+0000
TZNAME:GMT
DTSTART:19901028T010000
END:STANDARD
BEGIN:DAYLIGHT
TZOFFSETFROM:+0000
TZOFFSETTO:+0100
TZNAME:BST
DTSTART:19910331T010000
END:DAYLIGHT
BEGIN:STANDARD
TZOFFSETFROM:+0100
TZOFFSETTO:+0000
TZNAME:GMT
DTSTART:19911027T010000
END:STANDARD
BEGIN:DAYLIGHT
TZOFFSETFROM:+0000
TZOFFSETTO:+0100
TZNAME:BST
DTSTART:19920329T010000
END:DAYLIGHT
BEGIN:STANDARD
TZOFFSETFROM:+0100
TZOFFSETTO:+0000
TZNAME:GMT
DTSTART:19921025T010000
END:STANDARD
BEGIN:DAYLIGHT
TZOFFSETFROM:+0000
TZOFFSETTO:+0100
TZNAME:BST
DTSTART:19930328T010000
END:DAYLIGHT
BEGIN:STANDARD
TZOFFSETFROM:+0100
TZOFFSETTO:+0000
TZNAME:GMT
DTSTART:19931024T010000
END:STANDARD
BEGIN:DAYLIGHT
TZOFFSETFROM:+0000
TZOFFSETTO:+0100
TZNAME:BST
DTSTART:19940327T010000
END:DAYLIGHT
BEGIN:STANDARD
TZOFFSETFROM:+0100
TZOFFSETTO:+0000
TZNAME:GMT
DTSTART:19941023T010000
END:STANDARD
BEGIN:DAYLIGHT
TZOFFSETFROM:+0000
TZOFFSETTO:+0100
TZNAME:BST
DTSTART:19950326T010000
END:DAYLIGHT
BEGIN:STANDARD
TZOFFSETFROM:+0100
TZOFFSETTO:+0000
TZNAME:GMT
DTSTART:19951022T010000
END:STANDARD
BEGIN:STANDARD
TZOFFSETFROM:+0000
TZOFFSETTO:+0000
TZNAME:GMT
DTSTART:19960101T000000
END:STANDARD
BEGIN:DAYLIGHT
TZOFFSETFROM:+0000
TZOFFSETTO:+0100
TZNAME:BST
DTSTART:19960331T010000
END:DAYLIGHT
BEGIN:STANDARD
TZOFFSETFROM:+0100
TZOFFSETTO:+0000
TZNAME:GMT
DTSTART:19961027T010000
END:STANDARD
BEGIN:DAYLIGHT
TZOFFSETFROM:+0000
TZOFFSETTO:+0100
TZNAME:BST
DTSTART:19970330T010000
END:DAYLIGHT
BEGIN:STANDARD
TZOFFSETFROM:+0100
TZOFFSETTO:+0000
TZNAME:GMT
DTSTART:19971026T010000
END:STANDARD
BEGIN:DAYLIGHT
TZOFFSETFROM:+0000
TZOFFSETTO:+0100
TZNAME:BST
DTSTART:19980329T010000
END:DAYLIGHT
BEGIN:STANDARD
TZOFFSETFROM:+0100
TZOFFSETTO:+0000
TZNAME:GMT
DTSTART:19981025T010000
END:STANDARD
BEGIN:DAYLIGHT
TZOFFSETFROM:+0000
TZOFFSETTO:+0100
TZNAME:BST
DTSTART:19990328T010000
END:DAYLIGHT
BEGIN:STANDARD
TZOFFSETFROM:+0100
TZOFFSETTO:+0000
TZNAME:GMT
DTSTART:19991031T010000
END:STANDARD
BEGIN:DAYLIGHT
TZOFFSETFROM:+0000
TZOFFSETTO:+0100
TZNAME:BST
DTSTART:20000326T010000
END:DAYLIGHT
BEGIN:STANDARD
TZOFFSETFROM:+0100
TZOFFSETTO:+0000
TZNAME:GMT
DTSTART:20001029T010000
END:STANDARD
BEGIN:DAYLIGHT
TZOFFSETFROM:+0000
TZOFFSETTO:+0100
TZNAME:BST
DTSTART:20010325T010000
END:DAYLIGHT
BEGIN:STANDARD
TZOFFSETFROM:+0100
TZOFFSETTO:+0000
TZNAME:GMT
DTSTART:20011028T010000
END:STANDARD
BEGIN:DAYLIGHT
TZOFFSETFROM:+0000
TZOFFSETTO:+0100
TZNAME:BST
DTSTART:20020331T010000
END:DAYLIGHT
BEGIN:STANDARD
TZOFFSETFROM:+0100
TZOFFSETTO:+0000
TZNAME:GMT
DTSTART:20021027T010000
END:STANDARD
BEGIN:DAYLIGHT
TZOFFSETFROM:+0000
TZOFFSETTO:+0100
TZNAME:BST
DTSTART:20030330T010000
END:DAYLIGHT
BEGIN:STANDARD
TZOFFSETFROM:+0100
TZOFFSETTO:+0000
TZNAME:GMT
DTSTART:20031026T010000
END:STANDARD
BEGIN:DAYLIGHT
TZOFFSETFROM:+0000
TZOFFSETTO:+0100
TZNAME:BST
DTSTART:20040328T010000
END:DAYLIGHT
BEGIN:STANDARD
TZOFFSETFROM:+0100
TZOFFSETTO:+0000
TZNAME:GMT
DTSTART:20041031T010000
END:STANDARD
BEGIN:DAYLIGHT
TZOFFSETFROM:+0000
TZOFFSETTO:+0100
TZNAME:BST
DTSTART:20050327T010000
END:DAYLIGHT
BEGIN:STANDARD
TZOFFSETFROM:+0100
TZOFFSETTO:+0000
TZNAME:GMT
DTSTART:20051030T010000
END:STANDARD
BEGIN:DAYLIGHT
TZOFFSETFROM:+0000
TZOFFSETTO:+0100
TZNAME:BST
DTSTART:20060326T010000
END:DAYLIGHT
BEGIN:STANDARD
TZOFFSETFROM:+0100
TZOFFSETTO:+0000
TZNAME:GMT
DTSTART:20061029T010000
END:STANDARD
BEGIN:DAYLIGHT
TZOFFSETFROM:+0000
TZOFFSETTO:+0100
TZNAME:BST
DTSTART:20070325T010000
END:DAYLIGHT
BEGIN:STANDARD
TZOFFSETFROM:+0100
TZOFFSETTO:+0000
TZNAME:GMT
DTSTART:20071028T010000
END:STANDARD
BEGIN:DAYLIGHT
TZOFFSETFROM:+0000
TZOFFSETTO:+0100
TZNAME:BST
DTSTART:20080330T010000
END:DAYLIGHT
BEGIN:STANDARD
TZOFFSETFROM:+0100
TZOFFSETTO:+0000
TZNAME:GMT
DTSTART:20081026T010000
END:STANDARD
BEGIN:DAYLIGHT
TZOFFSETFROM:+0000
TZOFFSETTO:+0100
TZNAME:BST
DTSTART:20090329T010000
END:DAYLIGHT
BEGIN:STANDARD
TZOFFSETFROM:+0100
TZOFFSETTO:+0000
TZNAME:GMT
DTSTART:20091025T010000
END:STANDARD
BEGIN:DAYLIGHT
TZOFFSETFROM:+0000
TZOFFSETTO:+0100
TZNAME:BST
DTSTART:20100328T010000
END:DAYLIGHT
BEGIN:STANDARD
TZOFFSETFROM:+0100
TZOFFSETTO:+0000
TZNAME:GMT
DTSTART:20101031T010000
END:STANDARD
BEGIN:DAYLIGHT
TZOFFSETFROM:+0000
TZOFFSETTO:+0100
TZNAME:BST
DTSTART:20110327T010000
END:DAYLIGHT
BEGIN:STANDARD
TZOFFSETFROM:+0100
TZOFFSETTO:+0000
TZNAME:GMT
DTSTART:20111030T010000
END:STANDARD
BEGIN:DAYLIGHT
TZOFFSETFROM:+0000
TZOFFSETTO:+0100
TZNAME:BST
DTSTART:20120325T010000
END:DAYLIGHT
BEGIN:STANDARD
TZOFFSETFROM:+0100
TZOFFSETTO:+0000
TZNAME:GMT
DTSTART:20121028T010000
END:STANDARD
BEGIN:DAYLIGHT
TZOFFSETFROM:+0000
TZOFFSETTO:+0100
TZNAME:BST
DTSTART:20130331T010000
END:DAYLIGHT
BEGIN:STANDARD
TZOFFSETFROM:+0100
TZOFFSETTO:+0000
TZNAME:GMT
DTSTART:20131027T010000
END:STANDARD
BEGIN:DAYLIGHT
TZOFFSETFROM:+0000
TZOFFSETTO:+0100
TZNAME:BST
DTSTART:20140330T010000
END:DAYLIGHT
BEGIN:STANDARD
TZOFFSETFROM:+0100
TZOFFSETTO:+0000
TZNAME:GMT
DTSTART:20141026T010000
END:STANDARD
BEGIN:DAYLIGHT
TZOFFSETFROM:+0000
TZOFFSETTO:+0100
TZNAME:BST
DTSTART:20150329T010000
END:DAYLIGHT
BEGIN:STANDARD
TZOFFSETFROM:+0100
TZOFFSETTO:+0000
TZNAME:GMT
DTSTART:20151025T010000
END:STANDARD
BEGIN:DAYLIGHT
TZOFFSETFROM:+0000
TZOFFSETTO:+0100
TZNAME:BST
DTSTART:20160327T010000
END:DAYLIGHT
BEGIN:STANDARD
TZOFFSETFROM:+0100
TZOFFSETTO:+0000
TZNAME:GMT
DTSTART:20161030T010000
END:STANDARD
BEGIN:DAYLIGHT
TZOFFSETFROM:+0000
TZOFFSETTO:+0100
TZNAME:BST
DTSTART:20170326T010000
END:DAYLIGHT
BEGIN:STANDARD
TZOFFSETFROM:+0100
TZOFFSETTO:+0000
TZNAME:GMT
DTSTART:20171029T010000
END:STANDARD
BEGIN:DAYLIGHT
TZOFFSETFROM:+0000
TZOFFSETTO:+0100
TZNAME:BST
DTSTART:20180325T010000
END:DAYLIGHT
BEGIN:STANDARD
TZOFFSETFROM:+0100
TZOFFSETTO:+0000
TZNAME:GMT
DTSTART:20181028T010000
END:STANDARD
BEGIN:DAYLIGHT
TZOFFSETFROM:+0000
TZOFFSETTO:+0100
TZNAME:BST
DTSTART:20190331T010000
END:DAYLIGHT
BEGIN:STANDARD
TZOFFSETFROM:+0100
TZOFFSETTO:+0000
TZNAME:GMT
DTSTART:20191027T010000
END:STANDARD
BEGIN:DAYLIGHT
TZOFFSETFROM:+0000
TZOFFSETTO:+0100
TZNAME:BST
DTSTART:20200329T010000
END:DAYLIGHT
BEGIN:STANDARD
TZOFFSETFROM:+0100
TZOFFSETTO:+0000
TZNAME:GMT
DTSTART:20201025T010000
END:STANDARD
BEGIN:DAYLIGHT
TZOFFSETFROM:+0000
TZOFFSETTO:+0100
TZNAME:BST
DTSTART:20210328T010000
END:DAYLIGHT
BEGIN:STANDARD
TZOFFSETFROM:+0100
TZOFFSETTO:+0000
TZNAME:GMT
DTSTART:20211031T010000
END:STANDARD
BEGIN:DAYLIGHT
TZOFFSETFROM:+0000
TZOFFSETTO:+0100
TZNAME:BST
DTSTART:20220327T010000
END:DAYLIGHT
BEGIN:STANDARD
TZOFFSETFROM:+0100
TZOFFSETTO:+0000
TZNAME:GMT
DTSTART:20221030T010000
END:STANDARD
BEGIN:DAYLIGHT
TZOFFSETFROM:+0000
TZOFFSETTO:+0100
TZNAME:BST
DTSTART:20230326T010000
END:DAYLIGHT
BEGIN:STANDARD
TZOFFSETFROM:+0100
TZOFFSETTO:+0000
TZNAME:GMT
DTSTART:20231029T010000
END:STANDARD
BEGIN:DAYLIGHT
TZOFFSETFROM:+0000
TZOFFSETTO:+0100
TZNAME:BST
DTSTART:20240331T010000
END:DAYLIGHT
BEGIN:STANDARD
TZOFFSETFROM:+0100
TZOFFSETTO:+0000
TZNAME:GMT
DTSTART:20241027T010000
END:STANDARD
BEGIN:DAYLIGHT
TZOFFSETFROM:+0000
TZOFFSETTO:+0100
TZNAME:BST
DTSTART:20250330T010000
END:DAYLIGHT
BEGIN:STANDARD
TZOFFSETFROM:+0100
TZOFFSETTO:+0000
TZNAME:GMT
DTSTART:20251026T010000
END:STANDARD
END:VTIMEZONE
BEGIN:VEVENT
DTSTART;TZID=Europe/London:20240824T140000
DTEND;TZID=Europe/London:20240824T150000
DTSTAMP:20260421T052527
CREATED:20240819T124838Z
LAST-MODIFIED:20240821T180716Z
UID:11354-1724508000-1724511600@settleharriers.org
SUMMARY:Championship Race
DESCRIPTION:Halton Gill Sports Gala Fell Race
URL:https://settleharriers.org/event/championship-race/
LOCATION:Halton Gill\, 5RM8+H8J Skipton
CATEGORIES:BOFRA,Championship Race,Races
ATTACH;FMTTYPE=image/png:https://settleharriers.org/wp-content/uploads/2024/08/champs_race-e1724149105356.png
END:VEVENT
BEGIN:VEVENT
DTSTART;TZID=Europe/London:20240821T190000
DTEND;TZID=Europe/London:20240821T210000
DTSTAMP:20260421T052527
CREATED:20240819T115749Z
LAST-MODIFIED:20240821T180321Z
UID:11335-1724266800-1724274000@settleharriers.org
SUMMARY:Wednesday evening run
DESCRIPTION:Weets Top – Fell 11-12k \nAfterwards at the Victoria Inn \n\n10k trail run from Kirkby Malham taking in Weets and Janets Foss. Here’s the route –\n\n\nhttps://explore.osmaps.com/…/harriers-wheets-top-and…\n\n\nmeeting place is outside the Victoria Pub just before 7pm. If coming from Settle\, turn left at the pub and there is some parking on the left and a bit further down by the church (///easygoing.weaved.miracles). There is also some parking straight on past the pub next to the Parish Hall on the main Malham road (///ownership.century.requested).\nWill run the loop anticlockwise\, so Weets Top first then Janet’s Foss.
URL:https://settleharriers.org/event/wednesday-evening-run/
LOCATION:Kirkby Malham (Near Victoria)\, 2RVQ+V4 Skipton
ATTACH;FMTTYPE=image/png:https://settleharriers.org/wp-content/uploads/2024/08/weds_run-e1724149034228.png
END:VEVENT
BEGIN:VEVENT
DTSTART;TZID=Europe/London:20240819T200000
DTEND;TZID=Europe/London:20240819T200000
DTSTAMP:20260421T052527
CREATED:20240819T124254Z
LAST-MODIFIED:20240819T160435Z
UID:11351-1724097600-1724097600@settleharriers.org
SUMMARY:Monday evening run
DESCRIPTION:Off Road Mystery Tour \nSee the route here: https://explore.osmaps.com/route/22821085/stainforth–loop-1
URL:https://settleharriers.org/event/monday-evening-run-4/
LOCATION:Stainforth Car Park\, 4P2F+CJ Settle
CATEGORIES:Social Run
END:VEVENT
BEGIN:VEVENT
DTSTART;TZID=Europe/London:20240428T190000
DTEND;TZID=Europe/London:20240428T203000
DTSTAMP:20260421T052527
CREATED:20241029T122300Z
LAST-MODIFIED:20241029T122300Z
UID:11946-1714330800-1714336200@settleharriers.org
SUMMARY:Monday evening run
DESCRIPTION:Gigg Quarry Loop – 9km – Off Road
URL:https://settleharriers.org/event/monday-evening-run-39/
LOCATION:Simons House\, 3PF8+6G5 Settle
CATEGORIES:Social Run
END:VEVENT
BEGIN:VEVENT
DTSTART;TZID=Europe/London:20240421T190000
DTEND;TZID=Europe/London:20240421T203000
DTSTAMP:20260421T052527
CREATED:20241029T122300Z
LAST-MODIFIED:20241029T122300Z
UID:11945-1713726000-1713731400@settleharriers.org
SUMMARY:Monday evening run
DESCRIPTION:Sugar Loaf and Attermire – 8km – Off road
URL:https://settleharriers.org/event/monday-evening-run-38/
LOCATION:Settle Market Place\, 3P9F+F67 Settle
CATEGORIES:Social Run
END:VEVENT
BEGIN:VEVENT
DTSTART;TZID=Europe/London:20240414T190000
DTEND;TZID=Europe/London:20240414T203000
DTSTAMP:20260421T052527
CREATED:20241029T122300Z
LAST-MODIFIED:20241029T122300Z
UID:11944-1713121200-1713126600@settleharriers.org
SUMMARY:Monday evening run
DESCRIPTION:Off Road Loop – 7km – Off road
URL:https://settleharriers.org/event/monday-evening-run-37/
CATEGORIES:Social Run
END:VEVENT
BEGIN:VEVENT
DTSTART;TZID=Europe/London:20240407T190000
DTEND;TZID=Europe/London:20240407T203000
DTSTAMP:20260421T052527
CREATED:20241029T122300Z
LAST-MODIFIED:20241029T122300Z
UID:11943-1712516400-1712521800@settleharriers.org
SUMMARY:Monday evening run
DESCRIPTION:Langcliffe – Winskill Loop – 8km – Off road
URL:https://settleharriers.org/event/monday-evening-run-36/
LOCATION:Settle Market Place\, 3P9F+F67 Settle
CATEGORIES:Social Run
END:VEVENT
BEGIN:VEVENT
DTSTART;TZID=Europe/London:20240331T190000
DTEND;TZID=Europe/London:20240331T203000
DTSTAMP:20260421T052527
CREATED:20241029T122259Z
LAST-MODIFIED:20241029T122259Z
UID:11942-1711911600-1711917000@settleharriers.org
SUMMARY:Monday evening run
DESCRIPTION:Helwith Bridge Trail – 10km – Off road
URL:https://settleharriers.org/event/monday-evening-run-35/
LOCATION:Helwith Bridge Inn\, 4PC5+JR Settle
CATEGORIES:Social Run
END:VEVENT
BEGIN:VEVENT
DTSTART;TZID=Europe/London:20240324T190000
DTEND;TZID=Europe/London:20240324T203000
DTSTAMP:20260421T052527
CREATED:20241029T122244Z
LAST-MODIFIED:20241029T122244Z
UID:11941-1711306800-1711312200@settleharriers.org
SUMMARY:Monday evening run
DESCRIPTION:Cleatop Woods and Hunter Bark – 8km – Off road
URL:https://settleharriers.org/event/monday-evening-run-34/
LOCATION:Settle Market Place\, 3P9F+F67 Settle
CATEGORIES:Social Run
END:VEVENT
BEGIN:VEVENT
DTSTART;TZID=Europe/London:20240317T190000
DTEND;TZID=Europe/London:20240317T203000
DTSTAMP:20260421T052527
CREATED:20241029T122244Z
LAST-MODIFIED:20241029T122244Z
UID:11940-1710702000-1710707400@settleharriers.org
SUMMARY:Monday evening run
DESCRIPTION:Austwick Lanes –  8km – Off road
URL:https://settleharriers.org/event/monday-evening-run-33/
CATEGORIES:Social Run
END:VEVENT
BEGIN:VEVENT
DTSTART;TZID=Europe/London:20240310T190000
DTEND;TZID=Europe/London:20240310T203000
DTSTAMP:20260421T052527
CREATED:20241029T122244Z
LAST-MODIFIED:20241029T122244Z
UID:11939-1710097200-1710102600@settleharriers.org
SUMMARY:Monday evening run
DESCRIPTION:Ingleborough (Full Moon) – 7km – Off road
URL:https://settleharriers.org/event/monday-evening-run-32/
LOCATION:Ingleton Storrs\, 5G4R+6X9 Carnforth
CATEGORIES:Social Run
END:VEVENT
BEGIN:VEVENT
DTSTART;TZID=Europe/London:20240303T190000
DTEND;TZID=Europe/London:20240303T203000
DTSTAMP:20260421T052527
CREATED:20241029T122244Z
LAST-MODIFIED:20241029T122244Z
UID:11938-1709492400-1709497800@settleharriers.org
SUMMARY:Monday evening run
DESCRIPTION:Bowland Knotts\, Arrrgh – Anything up to 15km – Road
URL:https://settleharriers.org/event/monday-evening-run-31/
LOCATION:Clapham Station\, 4H4Q+5XC Lancaster
CATEGORIES:Social Run
END:VEVENT
BEGIN:VEVENT
DTSTART;TZID=Europe/London:20240224T190000
DTEND;TZID=Europe/London:20240224T203000
DTSTAMP:20260421T052527
CREATED:20241029T122244Z
LAST-MODIFIED:20241029T122244Z
UID:11937-1708801200-1708806600@settleharriers.org
SUMMARY:Monday evening run
DESCRIPTION:Whitber Loop –  8km – Off Road 
URL:https://settleharriers.org/event/monday-evening-run-30/
LOCATION:Horton Car Park\, 4PX3+GM Settle
CATEGORIES:Social Run
END:VEVENT
BEGIN:VEVENT
DTSTART;TZID=Europe/London:20240217T190000
DTEND;TZID=Europe/London:20240217T203000
DTSTAMP:20260421T052527
CREATED:20241029T122229Z
LAST-MODIFIED:20241029T122229Z
UID:11936-1708196400-1708201800@settleharriers.org
SUMMARY:Monday evening run
DESCRIPTION:River and Lanes – 7km – Off road
URL:https://settleharriers.org/event/monday-evening-run-29/
LOCATION:Settle Market Place\, 3P9F+F67 Settle
CATEGORIES:Social Run
END:VEVENT
BEGIN:VEVENT
DTSTART;TZID=Europe/London:20240210T190000
DTEND;TZID=Europe/London:20240210T203000
DTSTAMP:20260421T052527
CREATED:20241029T122229Z
LAST-MODIFIED:20241029T122229Z
UID:11935-1707591600-1707597000@settleharriers.org
SUMMARY:Monday evening run
DESCRIPTION:Off Road Loop –  7km – Off road
URL:https://settleharriers.org/event/monday-evening-run-28/
LOCATION:Austwick Game Cock\, 4J6V+R55 Lancaster
CATEGORIES:Social Run
END:VEVENT
BEGIN:VEVENT
DTSTART;TZID=Europe/London:20240209T190000
DTEND;TZID=Europe/London:20240209T203000
DTSTAMP:20260421T052527
CREATED:20240822T091703Z
LAST-MODIFIED:20240822T091703Z
UID:11601-1707505200-1707510600@settleharriers.org
SUMMARY:Monday evening run
DESCRIPTION:Runners/cyclists pairs event. Whernside for runners\, Ingleborough circuit for cyclists
URL:https://settleharriers.org/event/monday-evening-run-2/
LOCATION:Ribblehead\, 6J5Q+GMW Carnforth
CATEGORIES:Social Run
END:VEVENT
BEGIN:VEVENT
DTSTART;TZID=Europe/London:20240203T190000
DTEND;TZID=Europe/London:20240203T203000
DTSTAMP:20260421T052527
CREATED:20241029T122229Z
LAST-MODIFIED:20241029T122229Z
UID:11934-1706986800-1706992200@settleharriers.org
SUMMARY:Monday evening run
DESCRIPTION:Winskill Loop – 7km – Off road
URL:https://settleharriers.org/event/monday-evening-run-27/
LOCATION:Stainforth Car Park\, 4P2F+CJ Settle
CATEGORIES:Social Run
END:VEVENT
BEGIN:VEVENT
DTSTART;TZID=Europe/London:20240127T190000
DTEND;TZID=Europe/London:20240127T203000
DTSTAMP:20260421T052527
CREATED:20241029T122229Z
LAST-MODIFIED:20241029T122229Z
UID:11933-1706382000-1706387400@settleharriers.org
SUMMARY:Monday evening run
DESCRIPTION:Cleatop Woods and Hunter Bark – 8km – Off Road
URL:https://settleharriers.org/event/monday-evening-run-26/
LOCATION:Settle Market Place\, 3P9F+F67 Settle
CATEGORIES:Social Run
END:VEVENT
BEGIN:VEVENT
DTSTART;TZID=Europe/London:20240120T190000
DTEND;TZID=Europe/London:20240120T203000
DTSTAMP:20260421T052527
CREATED:20241029T122229Z
LAST-MODIFIED:20241029T122229Z
UID:11932-1705777200-1705782600@settleharriers.org
SUMMARY:Monday evening run
DESCRIPTION:Road Loop – 10km – Road
URL:https://settleharriers.org/event/monday-evening-run-25/
LOCATION:Austwick Game Cock\, 4J6V+R55 Lancaster
CATEGORIES:Social Run
END:VEVENT
BEGIN:VEVENT
DTSTART;TZID=Europe/London:20240113T190000
DTEND;TZID=Europe/London:20240113T203000
DTSTAMP:20260421T052527
CREATED:20241029T122214Z
LAST-MODIFIED:20241029T122214Z
UID:11931-1705172400-1705177800@settleharriers.org
SUMMARY:Monday evening run
DESCRIPTION:Whernside (Full Moon) – 7km – Off road
URL:https://settleharriers.org/event/monday-evening-run-24/
LOCATION:Ribblehead\, 6J5Q+GMW Carnforth
CATEGORIES:Social Run
END:VEVENT
BEGIN:VEVENT
DTSTART;TZID=Europe/London:20240106T190000
DTEND;TZID=Europe/London:20240106T203000
DTSTAMP:20260421T052527
CREATED:20241029T122214Z
LAST-MODIFIED:20241029T122214Z
UID:11930-1704567600-1704573000@settleharriers.org
SUMMARY:Monday evening run
DESCRIPTION:Wharfe – Wash Dubs Loop –  8km – Off Road
URL:https://settleharriers.org/event/monday-evening-run-23/
LOCATION:Austwick Bridge\, 4J5W+V6Q Lancaster
CATEGORIES:Social Run
END:VEVENT
BEGIN:VEVENT
DTSTART;TZID=Europe/London:20230522T180000
DTEND;TZID=Europe/London:20230522T200000
DTSTAMP:20260421T052527
CREATED:20230517T151546Z
LAST-MODIFIED:20250425T145846Z
UID:10129-1684778400-1684785600@settleharriers.org
SUMMARY:Monday evening run
DESCRIPTION:Parson’s Pulpit
URL:https://settleharriers.org/event/monday-evening-run/
LOCATION:Street Gate\, Malham Tarn\, 3VP2+PX5 Skipton
CATEGORIES:Social Run
END:VEVENT
BEGIN:VEVENT
DTSTART;TZID=Europe/London:20260421T052527
DTEND;TZID=Europe/London:20260421T052527
DTSTAMP:20260421T052527
CREATED:20250408T081021Z
LAST-MODIFIED:20251014T142339Z
UID:13233-0-0@settleharriers.org
SUMMARY:Wednesday evening run
DESCRIPTION:Victoria Cave / Attermire Scar trail loop
URL:https://settleharriers.org/event/wednesday-evening-run-34/
LOCATION:tbc
CATEGORIES:Social Run
END:VEVENT
END:VCALENDAR