BEGIN:VCALENDAR
VERSION:2.0
PRODID:-//Settle Harriers Running Club - ECPv6.15.20//NONSGML v1.0//EN
CALSCALE:GREGORIAN
METHOD:PUBLISH
X-ORIGINAL-URL:https://settleharriers.org
X-WR-CALDESC:Events for Settle Harriers Running Club
REFRESH-INTERVAL;VALUE=DURATION:PT1H
X-Robots-Tag:noindex
X-PUBLISHED-TTL:PT1H
BEGIN:VTIMEZONE
TZID:Europe/London
BEGIN:DAYLIGHT
TZOFFSETFROM:+0000
TZOFFSETTO:+0100
TZNAME:BST
DTSTART:20250330T010000
END:DAYLIGHT
BEGIN:STANDARD
TZOFFSETFROM:+0100
TZOFFSETTO:+0000
TZNAME:GMT
DTSTART:20251026T010000
END:STANDARD
BEGIN:DAYLIGHT
TZOFFSETFROM:+0000
TZOFFSETTO:+0100
TZNAME:BST
DTSTART:20260329T010000
END:DAYLIGHT
BEGIN:STANDARD
TZOFFSETFROM:+0100
TZOFFSETTO:+0000
TZNAME:GMT
DTSTART:20261025T010000
END:STANDARD
BEGIN:DAYLIGHT
TZOFFSETFROM:+0000
TZOFFSETTO:+0100
TZNAME:BST
DTSTART:20270328T010000
END:DAYLIGHT
BEGIN:STANDARD
TZOFFSETFROM:+0100
TZOFFSETTO:+0000
TZNAME:GMT
DTSTART:20271031T010000
END:STANDARD
END:VTIMEZONE
BEGIN:VEVENT
DTSTART;TZID=Europe/London:20260223T190000
DTEND;TZID=Europe/London:20260223T203000
DTSTAMP:20260421T025311
CREATED:20251019T150338Z
LAST-MODIFIED:20251019T151455Z
UID:14308-1771873200-1771878600@settleharriers.org
SUMMARY:Monday Evening Run
DESCRIPTION:Bowland Knotts Arrrgh
URL:https://settleharriers.org/event/monday-evening-run-138/
LOCATION:Clapham Station\, 4H4Q+5XC Lancaster
CATEGORIES:Social Run
ATTACH;FMTTYPE=image/png:https://settleharriers.org/wp-content/uploads/2024/08/mon_run-1-e1724149191804.png
END:VEVENT
BEGIN:VEVENT
DTSTART;TZID=Europe/London:20260225T190000
DTEND;TZID=Europe/London:20260225T190000
DTSTAMP:20260421T025311
CREATED:20251014T143713Z
LAST-MODIFIED:20251019T151433Z
UID:14065-1772046000-1772046000@settleharriers.org
SUMMARY:Wednesday evening run
DESCRIPTION:Lambert Lane and Bridleways – trail run
URL:https://settleharriers.org/event/wednesday-evening-run-92/
LOCATION:Long Preston village green\, 2P9W+W28 Skipton
CATEGORIES:Social Run
ATTACH;FMTTYPE=image/png:https://settleharriers.org/wp-content/uploads/2024/08/weds_run-e1724149034228.png
END:VEVENT
BEGIN:VEVENT
DTSTART;TZID=Europe/London:20260302T190000
DTEND;TZID=Europe/London:20260302T203000
DTSTAMP:20260421T025311
CREATED:20251019T150339Z
LAST-MODIFIED:20251019T151402Z
UID:14309-1772478000-1772483400@settleharriers.org
SUMMARY:Monday Evening Run
DESCRIPTION:Ingleborough
URL:https://settleharriers.org/event/monday-evening-run-139/
LOCATION:Ingleton Storrs\, 5G4R+6X9 Carnforth
CATEGORIES:Social Run
ATTACH;FMTTYPE=image/png:https://settleharriers.org/wp-content/uploads/2024/08/mon_run-1-e1724149191804.png
END:VEVENT
BEGIN:VEVENT
DTSTART;TZID=Europe/London:20260304T190000
DTEND;TZID=Europe/London:20260304T203000
DTSTAMP:20260421T025311
CREATED:20251014T143713Z
LAST-MODIFIED:20251024T144456Z
UID:14066-1772650800-1772656200@settleharriers.org
SUMMARY:Wednesday evening run
DESCRIPTION:Oddie Lane / Twistleton Lane / Beezley Falls road & trail loop
URL:https://settleharriers.org/event/wednesday-evening-run-93/
LOCATION:Ingleton Community Centre\, 5G2J+Q9V Carnforth
CATEGORIES:Social Run
ATTACH;FMTTYPE=image/png:https://settleharriers.org/wp-content/uploads/2024/08/weds_run-e1724149034228.png
END:VEVENT
BEGIN:VEVENT
DTSTART;TZID=Europe/London:20260309T190000
DTEND;TZID=Europe/London:20260309T203000
DTSTAMP:20260421T025311
CREATED:20251019T150353Z
LAST-MODIFIED:20251019T151216Z
UID:14310-1773082800-1773088200@settleharriers.org
SUMMARY:Monday Evening Run
DESCRIPTION:Austwick Lanes
URL:https://settleharriers.org/event/monday-evening-run-140/
CATEGORIES:Social Run
ATTACH;FMTTYPE=image/png:https://settleharriers.org/wp-content/uploads/2024/08/mon_run-1-e1724149191804.png
END:VEVENT
BEGIN:VEVENT
DTSTART;TZID=Europe/London:20260311T190000
DTEND;TZID=Europe/London:20260311T203000
DTSTAMP:20260421T025311
CREATED:20251014T143713Z
LAST-MODIFIED:20251024T144253Z
UID:14067-1773255600-1773261000@settleharriers.org
SUMMARY:Wednesday evening run
DESCRIPTION:Dub Cote Pen y Ghent or Dale Head Goat Lane / Moor Head Lane trail run
URL:https://settleharriers.org/event/wednesday-evening-run-94/
LOCATION:Helwith Bridge Inn\, 4PC5+JR Settle
CATEGORIES:Social Run
ATTACH;FMTTYPE=image/png:https://settleharriers.org/wp-content/uploads/2024/08/weds_run-e1724149034228.png
END:VEVENT
BEGIN:VEVENT
DTSTART;TZID=Europe/London:20260316T183000
DTEND;TZID=Europe/London:20260316T200000
DTSTAMP:20260421T025311
CREATED:20251019T150353Z
LAST-MODIFIED:20251019T151110Z
UID:14311-1773685800-1773691200@settleharriers.org
SUMMARY:Monday Evening Run
DESCRIPTION:Cleatop Woods and Hunter Bark
URL:https://settleharriers.org/event/monday-evening-run-141/
LOCATION:Settle Market Place\, 3P9F+F67 Settle
CATEGORIES:Social Run
ATTACH;FMTTYPE=image/png:https://settleharriers.org/wp-content/uploads/2024/08/mon_run-1-e1724149191804.png
END:VEVENT
BEGIN:VEVENT
DTSTART;TZID=Europe/London:20260318T190000
DTEND;TZID=Europe/London:20260318T190000
DTSTAMP:20260421T025311
CREATED:20251014T143713Z
LAST-MODIFIED:20251019T151047Z
UID:14068-1773860400-1773860400@settleharriers.org
SUMMARY:Wednesday evening run
DESCRIPTION:Victoria Cave / Attermire Scar trail loop
URL:https://settleharriers.org/event/wednesday-evening-run-95/
LOCATION:Settle Market Place\, 3P9F+F67 Settle
CATEGORIES:Social Run
ATTACH;FMTTYPE=image/png:https://settleharriers.org/wp-content/uploads/2024/08/weds_run-e1724149034228.png
END:VEVENT
BEGIN:VEVENT
DTSTART;TZID=Europe/London:20260323T183000
DTEND;TZID=Europe/London:20260323T200000
DTSTAMP:20260421T025311
CREATED:20251019T150353Z
LAST-MODIFIED:20251019T151019Z
UID:14312-1774290600-1774296000@settleharriers.org
SUMMARY:Monday Evening Run
DESCRIPTION:Helwith Bridge Trail
URL:https://settleharriers.org/event/monday-evening-run-142/
LOCATION:Helwith Bridge Inn\, 4PC5+JR Settle
CATEGORIES:Social Run
ATTACH;FMTTYPE=image/png:https://settleharriers.org/wp-content/uploads/2024/08/mon_run-1-e1724149191804.png
END:VEVENT
BEGIN:VEVENT
DTSTART;TZID=Europe/London:20260325T183000
DTEND;TZID=Europe/London:20260325T183000
DTSTAMP:20260421T025311
CREATED:20251014T143826Z
LAST-MODIFIED:20251019T150948Z
UID:14069-1774463400-1774463400@settleharriers.org
SUMMARY:Wednesday evening run
DESCRIPTION:Twistleton Scar trail run
URL:https://settleharriers.org/event/wednesday-evening-run-96/
LOCATION:Kingsdale/Turbury Road (GR 691757)\, 5GGG+C5R Carnforth
CATEGORIES:Social Run
ATTACH;FMTTYPE=image/png:https://settleharriers.org/wp-content/uploads/2024/08/weds_run-e1724149034228.png
END:VEVENT
BEGIN:VEVENT
DTSTART;TZID=Europe/London:20260330T190000
DTEND;TZID=Europe/London:20260330T203000
DTSTAMP:20260421T025311
CREATED:20251019T150353Z
LAST-MODIFIED:20260310T091708Z
UID:14313-1774897200-1774902600@settleharriers.org
SUMMARY:Monday Evening Run
DESCRIPTION:British Summer Time Special
URL:https://settleharriers.org/event/monday-evening-run-143/
LOCATION:Settle Market Place\, 3P9F+F67 Settle
CATEGORIES:Social Run
ATTACH;FMTTYPE=image/png:https://settleharriers.org/wp-content/uploads/2024/08/mon_run-1-e1724149191804.png
END:VEVENT
BEGIN:VEVENT
DTSTART;TZID=Europe/London:20260401T190000
DTEND;TZID=Europe/London:20260401T203000
DTSTAMP:20260421T025311
CREATED:20260328T191738Z
LAST-MODIFIED:20260328T191852Z
UID:15494-1775070000-1775075400@settleharriers.org
SUMMARY:Wednesday Evening Run
DESCRIPTION:Ingleborough
URL:https://settleharriers.org/event/wednesday-evening-run-97/
LOCATION:Ingleton Storrs\, 5G4R+6X9 Carnforth
END:VEVENT
BEGIN:VEVENT
DTSTART;TZID=Europe/London:20260406T190000
DTEND;TZID=Europe/London:20260406T203000
DTSTAMP:20260421T025311
CREATED:20251019T150354Z
LAST-MODIFIED:20251019T150805Z
UID:14314-1775502000-1775507400@settleharriers.org
SUMMARY:Monday Evening Run
DESCRIPTION:Haw Crag Loop
URL:https://settleharriers.org/event/monday-evening-run-144/
LOCATION:Airton\, 2RHX+HW3 Skipton
CATEGORIES:Social Run
ATTACH;FMTTYPE=image/png:https://settleharriers.org/wp-content/uploads/2024/08/mon_run-1-e1724149191804.png
END:VEVENT
BEGIN:VEVENT
DTSTART;TZID=Europe/London:20260408T190000
DTEND;TZID=Europe/London:20260408T203000
DTSTAMP:20260421T025311
CREATED:20260328T192347Z
LAST-MODIFIED:20260328T192347Z
UID:15502-1775674800-1775680200@settleharriers.org
SUMMARY:Wednesday Evening Run
DESCRIPTION:Brackenbottom Sell Gill /Whitber circuit or Pen Y Ghent
URL:https://settleharriers.org/event/wednesday-evening-run-98/
LOCATION:Horton Car Park\, 4PX3+GM Settle
END:VEVENT
BEGIN:VEVENT
DTSTART;TZID=Europe/London:20260413T190000
DTEND;TZID=Europe/London:20260413T203000
DTSTAMP:20260421T025311
CREATED:20251019T150408Z
LAST-MODIFIED:20251019T150737Z
UID:14315-1776106800-1776112200@settleharriers.org
SUMMARY:Monday Evening Run
DESCRIPTION:Sugar Loaf and Attermire
URL:https://settleharriers.org/event/monday-evening-run-145/
LOCATION:Settle Market Place\, 3P9F+F67 Settle
CATEGORIES:Social Run
ATTACH;FMTTYPE=image/png:https://settleharriers.org/wp-content/uploads/2024/08/mon_run-1-e1724149191804.png
END:VEVENT
BEGIN:VEVENT
DTSTART;TZID=Europe/London:20260420T190000
DTEND;TZID=Europe/London:20260420T203000
DTSTAMP:20260421T025311
CREATED:20251019T150408Z
LAST-MODIFIED:20260417T092207Z
UID:14316-1776711600-1776717000@settleharriers.org
SUMMARY:Monday Evening Run
DESCRIPTION:Austwick Lanes
URL:https://settleharriers.org/event/monday-evening-run-146/
LOCATION:Austwick Bridge\, 4J5W+V6Q Lancaster
CATEGORIES:Social Run
ATTACH;FMTTYPE=image/png:https://settleharriers.org/wp-content/uploads/2024/08/mon_run-1-e1724149191804.png
END:VEVENT
END:VCALENDAR