BEGIN:VCALENDAR
VERSION:2.0
PRODID:-//Settle Harriers Running Club - ECPv6.15.20//NONSGML v1.0//EN
CALSCALE:GREGORIAN
METHOD:PUBLISH
X-ORIGINAL-URL:https://settleharriers.org
X-WR-CALDESC:Events for Settle Harriers Running Club
REFRESH-INTERVAL;VALUE=DURATION:PT1H
X-Robots-Tag:noindex
X-PUBLISHED-TTL:PT1H
BEGIN:VTIMEZONE
TZID:Europe/London
BEGIN:DAYLIGHT
TZOFFSETFROM:+0000
TZOFFSETTO:+0100
TZNAME:BST
DTSTART:20230326T010000
END:DAYLIGHT
BEGIN:STANDARD
TZOFFSETFROM:+0100
TZOFFSETTO:+0000
TZNAME:GMT
DTSTART:20231029T010000
END:STANDARD
BEGIN:DAYLIGHT
TZOFFSETFROM:+0000
TZOFFSETTO:+0100
TZNAME:BST
DTSTART:20240331T010000
END:DAYLIGHT
BEGIN:STANDARD
TZOFFSETFROM:+0100
TZOFFSETTO:+0000
TZNAME:GMT
DTSTART:20241027T010000
END:STANDARD
BEGIN:DAYLIGHT
TZOFFSETFROM:+0000
TZOFFSETTO:+0100
TZNAME:BST
DTSTART:20250330T010000
END:DAYLIGHT
BEGIN:STANDARD
TZOFFSETFROM:+0100
TZOFFSETTO:+0000
TZNAME:GMT
DTSTART:20251026T010000
END:STANDARD
END:VTIMEZONE
BEGIN:VEVENT
DTSTART;TZID=Europe/London:20241202T190000
DTEND;TZID=Europe/London:20241202T203000
DTSTAMP:20260420T164652
CREATED:20241029T122159Z
LAST-MODIFIED:20241202T095349Z
UID:11925-1733166000-1733171400@settleharriers.org
SUMMARY:Monday evening run
DESCRIPTION:Settle to Langcliffe Loop
URL:https://settleharriers.org/event/monday-evening-run-18/
LOCATION:Simons House\, 3PF8+6G5 Settle
CATEGORIES:Social Run
ATTACH;FMTTYPE=image/png:https://settleharriers.org/wp-content/uploads/2024/08/mon_run-1-e1724149191804.png
END:VEVENT
BEGIN:VEVENT
DTSTART;TZID=Europe/London:20241204T190000
DTEND;TZID=Europe/London:20241204T203000
DTSTAMP:20260420T164652
CREATED:20240923T102949Z
LAST-MODIFIED:20241204T080926Z
UID:11689-1733338800-1733344200@settleharriers.org
SUMMARY:Wednesday evening run
DESCRIPTION:Cold Cotes circular road run 9.5k
URL:https://settleharriers.org/event/wednesday-evening-run-16/
LOCATION:Ingleton Community Centre\, 5G2J+Q9V Carnforth
CATEGORIES:Social Run
ATTACH;FMTTYPE=image/png:https://settleharriers.org/wp-content/uploads/2024/08/weds_run-e1724149034228.png
END:VEVENT
BEGIN:VEVENT
DTSTART;TZID=Europe/London:20241209T183000
DTEND;TZID=Europe/London:20241209T203000
DTSTAMP:20260420T164652
CREATED:20241029T122159Z
LAST-MODIFIED:20241029T130041Z
UID:11926-1733769000-1733776200@settleharriers.org
SUMMARY:Monday evening run
DESCRIPTION:Attermire tops followed by Pre-Xmas curry at Ruchee –  7km – Off Road 
URL:https://settleharriers.org/event/monday-evening-run-19/
LOCATION:Settle Market Place\, 3P9F+F67 Settle
CATEGORIES:Social Run
ATTACH;FMTTYPE=image/png:https://settleharriers.org/wp-content/uploads/2024/08/mon_run-1-e1724149191804.png
END:VEVENT
BEGIN:VEVENT
DTSTART;TZID=Europe/London:20241209T200000
DTEND;TZID=Europe/London:20241209T213000
DTSTAMP:20260420T164652
CREATED:20241029T130543Z
LAST-MODIFIED:20241029T130601Z
UID:12054-1733774400-1733779800@settleharriers.org
SUMMARY:Christmas Curry
DESCRIPTION:Christmas Curry at the Ruchee following the Monday run. Contact Debbie Hope to book in
URL:https://settleharriers.org/event/christmas-curry/
ATTACH;FMTTYPE=image/png:https://settleharriers.org/wp-content/uploads/2024/08/social-e1726058202329.png
END:VEVENT
BEGIN:VEVENT
DTSTART;TZID=Europe/London:20241211T190000
DTEND;TZID=Europe/London:20241211T203000
DTSTAMP:20260420T164652
CREATED:20240923T102949Z
LAST-MODIFIED:20240923T111246Z
UID:11690-1733943600-1733949000@settleharriers.org
SUMMARY:Wednesday evening run
DESCRIPTION:Rathmell Wham circular road run 11k
URL:https://settleharriers.org/event/wednesday-evening-run-17/
LOCATION:Giggleswick Station Car Park\, 3M6W+QWC Settle
CATEGORIES:Social Run
ATTACH;FMTTYPE=image/png:https://settleharriers.org/wp-content/uploads/2024/08/weds_run-e1724149034228.png
END:VEVENT
BEGIN:VEVENT
DTSTART;TZID=Europe/London:20241216T190000
DTEND;TZID=Europe/London:20241216T203000
DTSTAMP:20260420T164652
CREATED:20241029T122214Z
LAST-MODIFIED:20241029T130009Z
UID:11927-1734375600-1734381000@settleharriers.org
SUMMARY:Monday evening run
DESCRIPTION:Pen-Y-Ghent (Full Moon) – 6km – Off Road 
URL:https://settleharriers.org/event/monday-evening-run-20/
LOCATION:Horton Car Park\, 4PX3+GM Settle
CATEGORIES:Social Run
ATTACH;FMTTYPE=image/png:https://settleharriers.org/wp-content/uploads/2024/08/mon_run-1-e1724149191804.png
END:VEVENT
BEGIN:VEVENT
DTSTART;TZID=Europe/London:20241218T190000
DTEND;TZID=Europe/London:20241218T203000
DTSTAMP:20260420T164652
CREATED:20240923T103005Z
LAST-MODIFIED:20240923T111227Z
UID:11691-1734548400-1734553800@settleharriers.org
SUMMARY:Wednesday evening run
DESCRIPTION:Crummackdale circuit – trail run 9.5k
URL:https://settleharriers.org/event/wednesday-evening-run-18/
LOCATION:Austwick Game Cock\, 4J6V+R55 Lancaster
CATEGORIES:Social Run
ATTACH;FMTTYPE=image/png:https://settleharriers.org/wp-content/uploads/2024/08/weds_run-e1724149034228.png
END:VEVENT
BEGIN:VEVENT
DTSTART;TZID=Europe/London:20241223T110000
DTEND;TZID=Europe/London:20241223T170000
DTSTAMP:20260420T164652
CREATED:20241211T164849Z
LAST-MODIFIED:20241211T164946Z
UID:12136-1734951600-1734973200@settleharriers.org
SUMMARY:Xmas Eve MTB/Run/walk
DESCRIPTION:Our traditional Xmas Eve outing with a choice of disciplines. Non-competitive (for most!). Followed by optional social festive freshener at the Helwith Bridge Inn
URL:https://settleharriers.org/event/xmas-eve-mtb-run-walk/
LOCATION:Helwith Bridge Inn\, 4PC5+JR Settle
CATEGORIES:Social Run
ATTACH;FMTTYPE=image/png:https://settleharriers.org/wp-content/uploads/2024/08/club_events-e1724159565783.png
END:VEVENT
BEGIN:VEVENT
DTSTART;TZID=Europe/London:20241223T190000
DTEND;TZID=Europe/London:20241223T203000
DTSTAMP:20260420T164652
CREATED:20241029T122214Z
LAST-MODIFIED:20241029T125930Z
UID:11928-1734980400-1734985800@settleharriers.org
SUMMARY:Monday evening run
DESCRIPTION:Austwick Lanes – 8km – Off Road 
URL:https://settleharriers.org/event/monday-evening-run-21/
LOCATION:Austwick Game Cock\, 4J6V+R55 Lancaster
CATEGORIES:Social Run
ATTACH;FMTTYPE=image/png:https://settleharriers.org/wp-content/uploads/2024/08/mon_run-1-e1724149191804.png
END:VEVENT
BEGIN:VEVENT
DTSTART;TZID=Europe/London:20241230T103000
DTEND;TZID=Europe/London:20241230T203000
DTSTAMP:20260420T164652
CREATED:20241029T123924Z
LAST-MODIFIED:20241029T131006Z
UID:11961-1735554600-1735590600@settleharriers.org
SUMMARY:Jingleborough
DESCRIPTION:Post Christmas social run up Ingleborough –  8km – Off Road 
URL:https://settleharriers.org/event/monday-evening-run-40/
LOCATION:Cod Bank above Cold Cotes\, 4HQ9+FPC Lancaster
CATEGORIES:Social Run
ATTACH;FMTTYPE=image/png:https://settleharriers.org/wp-content/uploads/2024/08/social-e1726058202329.png
END:VEVENT
END:VCALENDAR