BEGIN:VCALENDAR
VERSION:2.0
PRODID:-//Settle Harriers Running Club - ECPv6.15.20//NONSGML v1.0//EN
CALSCALE:GREGORIAN
METHOD:PUBLISH
X-WR-CALNAME:Settle Harriers Running Club
X-ORIGINAL-URL:https://settleharriers.org
X-WR-CALDESC:Events for Settle Harriers Running Club
REFRESH-INTERVAL;VALUE=DURATION:PT1H
X-Robots-Tag:noindex
X-PUBLISHED-TTL:PT1H
BEGIN:VTIMEZONE
TZID:Europe/London
BEGIN:DAYLIGHT
TZOFFSETFROM:+0000
TZOFFSETTO:+0100
TZNAME:BST
DTSTART:20240331T010000
END:DAYLIGHT
BEGIN:STANDARD
TZOFFSETFROM:+0100
TZOFFSETTO:+0000
TZNAME:GMT
DTSTART:20241027T010000
END:STANDARD
BEGIN:DAYLIGHT
TZOFFSETFROM:+0000
TZOFFSETTO:+0100
TZNAME:BST
DTSTART:20250330T010000
END:DAYLIGHT
BEGIN:STANDARD
TZOFFSETFROM:+0100
TZOFFSETTO:+0000
TZNAME:GMT
DTSTART:20251026T010000
END:STANDARD
BEGIN:DAYLIGHT
TZOFFSETFROM:+0000
TZOFFSETTO:+0100
TZNAME:BST
DTSTART:20260329T010000
END:DAYLIGHT
BEGIN:STANDARD
TZOFFSETFROM:+0100
TZOFFSETTO:+0000
TZNAME:GMT
DTSTART:20261025T010000
END:STANDARD
END:VTIMEZONE
BEGIN:VEVENT
DTSTART;TZID=Europe/London:20250203T190000
DTEND;TZID=Europe/London:20250203T203000
DTSTAMP:20260420T135900
CREATED:20241029T123940Z
LAST-MODIFIED:20241029T125715Z
UID:11966-1738609200-1738614600@settleharriers.org
SUMMARY:Monday evening run
DESCRIPTION:Winskill Loop – 7km – Off road
URL:https://settleharriers.org/event/monday-evening-run-45/
LOCATION:Stainforth Car Park\, 4P2F+CJ Settle
CATEGORIES:Social Run
ATTACH;FMTTYPE=image/png:https://settleharriers.org/wp-content/uploads/2024/08/mon_run-1-e1724149191804.png
END:VEVENT
BEGIN:VEVENT
DTSTART;TZID=Europe/London:20250205T190000
DTEND;TZID=Europe/London:20250205T203000
DTSTAMP:20260420T135900
CREATED:20240923T103019Z
LAST-MODIFIED:20240923T111026Z
UID:11697-1738782000-1738787400@settleharriers.org
SUMMARY:Wednesday evening run
DESCRIPTION:Smearsett circular – trail run 10k
URL:https://settleharriers.org/event/wednesday-evening-run-24/
LOCATION:Helwith Bridge Inn\, 4PC5+JR Settle
CATEGORIES:Social Run
ATTACH;FMTTYPE=image/png:https://settleharriers.org/wp-content/uploads/2024/08/weds_run-e1724149034228.png
END:VEVENT
BEGIN:VEVENT
DTSTART;TZID=Europe/London:20250210T190000
DTEND;TZID=Europe/London:20250210T203000
DTSTAMP:20260420T135900
CREATED:20241029T123940Z
LAST-MODIFIED:20241029T125651Z
UID:11967-1739214000-1739219400@settleharriers.org
SUMMARY:Monday evening run
DESCRIPTION:Off Road Loop –  7km – Off road
URL:https://settleharriers.org/event/monday-evening-run-46/
LOCATION:Austwick Game Cock\, 4J6V+R55 Lancaster
CATEGORIES:Social Run
ATTACH;FMTTYPE=image/png:https://settleharriers.org/wp-content/uploads/2024/08/mon_run-1-e1724149191804.png
END:VEVENT
BEGIN:VEVENT
DTSTART;TZID=Europe/London:20250212T190000
DTEND;TZID=Europe/London:20250212T203000
DTSTAMP:20260420T135900
CREATED:20240923T103019Z
LAST-MODIFIED:20240923T104353Z
UID:11698-1739386800-1739392200@settleharriers.org
SUMMARY:Wednesday evening run
DESCRIPTION:Norber Erratics or Wash Dubs 9k
URL:https://settleharriers.org/event/wednesday-evening-run-25/
LOCATION:Austwick Game Cock\, 4J6V+R55 Lancaster
CATEGORIES:Social Run
END:VEVENT
BEGIN:VEVENT
DTSTART;TZID=Europe/London:20250217T190000
DTEND;TZID=Europe/London:20250217T203000
DTSTAMP:20260420T135900
CREATED:20241029T123940Z
LAST-MODIFIED:20241029T125628Z
UID:11968-1739818800-1739824200@settleharriers.org
SUMMARY:Monday evening run
DESCRIPTION:River and Lanes – 7km – Off road
URL:https://settleharriers.org/event/monday-evening-run-47/
LOCATION:Settle Market Place\, 3P9F+F67 Settle
CATEGORIES:Social Run
ATTACH;FMTTYPE=image/png:https://settleharriers.org/wp-content/uploads/2024/08/mon_run-1-e1724149191804.png
END:VEVENT
BEGIN:VEVENT
DTSTART;TZID=Europe/London:20250219T190000
DTEND;TZID=Europe/London:20250219T203000
DTSTAMP:20260420T135900
CREATED:20240923T103019Z
LAST-MODIFIED:20250214T112840Z
UID:11699-1739991600-1739997000@settleharriers.org
SUMMARY:Wednesday evening run
DESCRIPTION:Clapham / Newby / Newby Cote – road run 9k
URL:https://settleharriers.org/event/wednesday-evening-run-26/
LOCATION:Clapham Car Park\, 4J95+6M Lancaster
CATEGORIES:Social Run
ATTACH;FMTTYPE=image/png:https://settleharriers.org/wp-content/uploads/2024/08/weds_run-e1724149034228.png
END:VEVENT
BEGIN:VEVENT
DTSTART;TZID=Europe/London:20250224T190000
DTEND;TZID=Europe/London:20250224T203000
DTSTAMP:20260420T135900
CREATED:20241029T123955Z
LAST-MODIFIED:20250224T115240Z
UID:11969-1740423600-1740429000@settleharriers.org
SUMMARY:Monday evening run
DESCRIPTION:Brackenbottom Dub Cote Loop –  8km – Off Road – Meet at Horton big layby before Church
URL:https://settleharriers.org/event/monday-evening-run-48/
LOCATION:tbc
CATEGORIES:Social Run
ATTACH;FMTTYPE=image/png:https://settleharriers.org/wp-content/uploads/2024/08/mon_run-1-e1724149191804.png
END:VEVENT
BEGIN:VEVENT
DTSTART;TZID=Europe/London:20250226T190000
DTEND;TZID=Europe/London:20250226T203000
DTSTAMP:20260420T135900
CREATED:20240923T103020Z
LAST-MODIFIED:20240923T110958Z
UID:11700-1740596400-1740601800@settleharriers.org
SUMMARY:Wednesday evening run
DESCRIPTION:Lambert Lane and Bridleways – trail run 9k
URL:https://settleharriers.org/event/wednesday-evening-run-27/
LOCATION:Long Preston village green\, 2P9W+W28 Skipton
CATEGORIES:Social Run
ATTACH;FMTTYPE=image/png:https://settleharriers.org/wp-content/uploads/2024/08/weds_run-e1724149034228.png
END:VEVENT
END:VCALENDAR