BEGIN:VCALENDAR
VERSION:2.0
PRODID:-//Settle Harriers Running Club - ECPv6.15.20//NONSGML v1.0//EN
CALSCALE:GREGORIAN
METHOD:PUBLISH
X-WR-CALNAME:Settle Harriers Running Club
X-ORIGINAL-URL:https://settleharriers.org
X-WR-CALDESC:Events for Settle Harriers Running Club
REFRESH-INTERVAL;VALUE=DURATION:PT1H
X-Robots-Tag:noindex
X-PUBLISHED-TTL:PT1H
BEGIN:VTIMEZONE
TZID:Europe/London
BEGIN:DAYLIGHT
TZOFFSETFROM:+0000
TZOFFSETTO:+0100
TZNAME:BST
DTSTART:20240331T010000
END:DAYLIGHT
BEGIN:STANDARD
TZOFFSETFROM:+0100
TZOFFSETTO:+0000
TZNAME:GMT
DTSTART:20241027T010000
END:STANDARD
BEGIN:DAYLIGHT
TZOFFSETFROM:+0000
TZOFFSETTO:+0100
TZNAME:BST
DTSTART:20250330T010000
END:DAYLIGHT
BEGIN:STANDARD
TZOFFSETFROM:+0100
TZOFFSETTO:+0000
TZNAME:GMT
DTSTART:20251026T010000
END:STANDARD
BEGIN:DAYLIGHT
TZOFFSETFROM:+0000
TZOFFSETTO:+0100
TZNAME:BST
DTSTART:20260329T010000
END:DAYLIGHT
BEGIN:STANDARD
TZOFFSETFROM:+0100
TZOFFSETTO:+0000
TZNAME:GMT
DTSTART:20261025T010000
END:STANDARD
END:VTIMEZONE
BEGIN:VEVENT
DTSTART;TZID=Europe/London:20250702T190000
DTEND;TZID=Europe/London:20250702T203000
DTSTAMP:20260420T132421
CREATED:20250408T091651Z
LAST-MODIFIED:20250427T120607Z
UID:13291-1751482800-1751488200@settleharriers.org
SUMMARY:Wednesday evening run
DESCRIPTION:Settle Harriers Whernside Fell Race – Afterwards at: Station Inn Ribblehead
URL:https://settleharriers.org/event/wednesday-evening-run-48/
LOCATION:Ribblehead\, 6J5Q+GMW Carnforth
CATEGORIES:Social Run
ATTACH;FMTTYPE=image/png:https://settleharriers.org/wp-content/uploads/2024/08/settle_races-e1724159533761.png
END:VEVENT
BEGIN:VEVENT
DTSTART;TZID=Europe/London:20250707T190000
DTEND;TZID=Europe/London:20250707T203000
DTSTAMP:20260420T132421
CREATED:20250425T150125Z
LAST-MODIFIED:20250425T150951Z
UID:13473-1751914800-1751920200@settleharriers.org
SUMMARY:Monday evening run
DESCRIPTION:Ingleborough Race Route – 9km
URL:https://settleharriers.org/event/monday-evening-run-95/
LOCATION:Ingleton Storrs\, 5G4R+6X9 Carnforth
CATEGORIES:Social Run
ATTACH;FMTTYPE=image/png:https://settleharriers.org/wp-content/uploads/2024/08/mon_run-1-e1724149191804.png
END:VEVENT
BEGIN:VEVENT
DTSTART;TZID=Europe/London:20250709T190000
DTEND;TZID=Europe/London:20250709T203000
DTSTAMP:20260420T132421
CREATED:20250408T091652Z
LAST-MODIFIED:20250408T092526Z
UID:13292-1752087600-1752093000@settleharriers.org
SUMMARY:Wednesday evening run
DESCRIPTION:Castle Knott – Fell 10k – Afterwards at: Barbon Inn
URL:https://settleharriers.org/event/wednesday-evening-run-49/
LOCATION:Barbon village Church\, 6CPJ+JM Barbon\, Carnforth
CATEGORIES:Social Run
ATTACH;FMTTYPE=image/png:https://settleharriers.org/wp-content/uploads/2024/08/weds_run-e1724149034228.png
END:VEVENT
BEGIN:VEVENT
DTSTART;TZID=Europe/London:20250714T190000
DTEND;TZID=Europe/London:20250714T203000
DTSTAMP:20260420T132421
CREATED:20250425T150125Z
LAST-MODIFIED:20250714T090717Z
UID:13474-1752519600-1752525000@settleharriers.org
SUMMARY:Monday evening run
DESCRIPTION:Scales Moor – 9km
URL:https://settleharriers.org/event/monday-evening-run-96/
LOCATION:Chapel-le-Dale car park\, 5HQW+QX5 Carnforth
CATEGORIES:Social Run
ATTACH;FMTTYPE=image/png:https://settleharriers.org/wp-content/uploads/2024/08/mon_run-1-e1724149191804.png
END:VEVENT
BEGIN:VEVENT
DTSTART;TZID=Europe/London:20250716T190000
DTEND;TZID=Europe/London:20250716T203000
DTSTAMP:20260420T132421
CREATED:20250408T091706Z
LAST-MODIFIED:20250714T195732Z
UID:13293-1752692400-1752697800@settleharriers.org
SUMMARY:Wednesday evening run
DESCRIPTION:Sugar Loaf\, Attermire Scar\, Warrendale Knotts\, Victoria Cave – Trail 9.5k – Afterwards at Talbot Inn
URL:https://settleharriers.org/event/wednesday-evening-run-50/
LOCATION:Settle Market Place\, 3P9F+F67 Settle
CATEGORIES:Social Run
ATTACH;FMTTYPE=image/png:https://settleharriers.org/wp-content/uploads/2024/08/weds_run-e1724149034228.png
END:VEVENT
BEGIN:VEVENT
DTSTART;TZID=Europe/London:20250721T190000
DTEND;TZID=Europe/London:20250721T203000
DTSTAMP:20260420T132421
CREATED:20250425T150125Z
LAST-MODIFIED:20250702T091431Z
UID:13475-1753124400-1753129800@settleharriers.org
SUMMARY:Navigation run
DESCRIPTION:An informal navigation exercise around Moughton Scar powered by MapRun
URL:https://settleharriers.org/event/monday-evening-run-97/
LOCATION:Helwith Bridge Inn\, 4PC5+JR Settle
CATEGORIES:Social Run
ATTACH;FMTTYPE=image/png:https://settleharriers.org/wp-content/uploads/2024/08/mon_run-1-e1724149191804.png
END:VEVENT
BEGIN:VEVENT
DTSTART;TZID=Europe/London:20250723T190000
DTEND;TZID=Europe/London:20250723T203000
DTSTAMP:20260420T132421
CREATED:20250408T091706Z
LAST-MODIFIED:20250716T150559Z
UID:13294-1753297200-1753302600@settleharriers.org
SUMMARY:Wednesday evening run
DESCRIPTION:Moughton\, Sulber Nick\, Horton In Ribblesdale – Trail 10k – Afterwards at: Helwith Bridge Inn
URL:https://settleharriers.org/event/wednesday-evening-run-51/
LOCATION:Helwith Bridge Inn\, 4PC5+JR Settle
CATEGORIES:Social Run
ATTACH;FMTTYPE=image/png:https://settleharriers.org/wp-content/uploads/2024/08/weds_run-e1724149034228.png
END:VEVENT
BEGIN:VEVENT
DTSTART;TZID=Europe/London:20250728T190000
DTEND;TZID=Europe/London:20250728T203000
DTSTAMP:20260420T132421
CREATED:20250425T150126Z
LAST-MODIFIED:20250728T101703Z
UID:13476-1753729200-1753734600@settleharriers.org
SUMMARY:Monday evening run
DESCRIPTION:Langcliffe Loop – 7km
URL:https://settleharriers.org/event/monday-evening-run-98/
LOCATION:Settle Market Place\, 3P9F+F67 Settle
CATEGORIES:Social Run
ATTACH;FMTTYPE=image/png:https://settleharriers.org/wp-content/uploads/2024/08/mon_run-1-e1724149191804.png
END:VEVENT
BEGIN:VEVENT
DTSTART;TZID=Europe/London:20250730T190000
DTEND;TZID=Europe/London:20250730T203000
DTSTAMP:20260420T132421
CREATED:20250408T091706Z
LAST-MODIFIED:20250716T150805Z
UID:13295-1753902000-1753907400@settleharriers.org
SUMMARY:Wednesday evening run
DESCRIPTION:Wold Fell & Great Knoutberry Hill -Fell 10.5k Afterwards at: Station Inn Ribblehead
URL:https://settleharriers.org/event/wednesday-evening-run-52/
LOCATION:Newby Head Gate\, 6MWG+MPF Sedbergh
CATEGORIES:Social Run
ATTACH;FMTTYPE=image/png:https://settleharriers.org/wp-content/uploads/2024/08/weds_run-e1724149034228.png
END:VEVENT
END:VCALENDAR